View In:
ArcGIS JavaScript
ArcGIS Online Map Viewer
ArcGIS Earth
Service Description: Pixel values are in m. 2m x 2m pixel size.
Maximum water depth which is used to determine flood plain and flood prone areas, and is used an input into the DxV grids used for overland flow path identification. Modelling done by Awa on behalf of TCC. Grids mosaicked to gether by TCC. Data used in Plan Change 27. Dated: 2020.
Name: Flood_Depth_Analysis
Description: Pixel values are in m. 2m x 2m pixel size.
Maximum water depth which is used to determine flood plain and flood prone areas, and is used an input into the DxV grids used for overland flow path identification. Modelling done by Awa on behalf of TCC. Grids mosaicked to gether by TCC. Data used in Plan Change 27. Dated: 2020.
Map service published by Afaf Abbas for Mapi Production app
Single Fused Map Cache: false
Extent:
XMin: 1855600.0
YMin: 5789220.0
XMax: 1901856.0
YMax: 5830582.0
Spatial Reference: 2193
(2193)
LatestVCSWkid(0)
Initial Extent:
XMin: 1855600.0
YMin: 5789220.0
XMax: 1901856.0
YMax: 5830582.0
Spatial Reference: 2193
(2193)
LatestVCSWkid(0)
Full Extent:
XMin: 1855600.0
YMin: 5789220.0
XMax: 1901856.0
YMax: 5830582.0
Spatial Reference: 2193
(2193)
LatestVCSWkid(0)
Pixel Size X: 1.0
Pixel Size Y: 1.0
Band Count: 1
Pixel Type: F32
RasterFunction Infos: {"rasterFunctionInfos": [{
"name": "None",
"description": "",
"help": ""
}]}
Mensuration Capabilities: Basic
Inspection Capabilities:
Has Histograms: true
Has Colormap: false
Has Multi Dimensions : false
Rendering Rule:
Min Scale: 0
Max Scale: 0
Copyright Text: Aaron Jeffries (GIS), Kate Dawkings (water engineer), Manasi Vaidya (planner).
Service Data Type: esriImageServiceDataTypeGeneric
Min Values: 1.9999999949504854E-6
Max Values: 16.350000381469727
Mean Values: 0.5147096142072125
Standard Deviation Values: 0.951234997776213
Object ID Field:
Fields:
None
Default Mosaic Method: Center
Allowed Mosaic Methods:
SortField:
SortValue: null
Mosaic Operator: First
Default Compression Quality: 75
Default Resampling Method: Bilinear
Max Record Count: null
Max Image Height: 4100
Max Image Width: 15000
Max Download Image Count: null
Max Mosaic Image Count: null
Allow Raster Function: true
Allow Copy: true
Allow Analysis: true
Allow Compute TiePoints: false
Supports Statistics: false
Supports Advanced Queries: false
Use StandardizedQueries: true
Raster Type Infos:
Name: Raster Dataset
Description: Supports all ArcGIS Raster Datasets
Help:
Has Raster Attribute Table: false
Edit Fields Info: null
Ownership Based AccessControl For Rasters: null
Child Resources:
Info
Histograms
Statistics
Key Properties
Legend
Raster Function Infos
Supported Operations:
Export Image
Identify
Measure
Compute Histograms
Compute Statistics Histograms
Get Samples
Compute Class Statistics
Query Boundary
Compute Pixel Location
Compute Angles
Validate
Project