Pixel values are in m. 2m x 2m pixel size.<\/SPAN><\/P>Maximum water depth which is used to determine flood plain and flood prone areas, and is used an input into the DxV grids used for overland flow path identification. Modelling done by Awa on behalf of TCC. Grids mosaicked to gether by TCC. Data used in Plan Change 27. Dated: 2020.<\/SPAN><\/P><\/DIV><\/DIV>",
"serviceItemId": "0984cd22730e47a98221ac1d64f626d9",
"name": "Flood_Depth_Analysis",
"description": "Pixel values are in m. 2m x 2m pixel size.<\/span><\/p>Maximum water depth which is used to determine flood plain and flood prone areas, and is used an input into the DxV grids used for overland flow path identification. Modelling done by Awa on behalf of TCC. Grids mosaicked to gether by TCC. Data used in Plan Change 27. Dated: 2020.<\/span><\/p>Map service published by Afaf Abbas for Mapi Production app<\/span><\/p><\/div><\/div>",
"extent": {
"xmin": 1855600,
"ymin": 5789220,
"xmax": 1901856,
"ymax": 5830582,
"spatialReference": {
"wkid": 2193,
"latestWkid": 2193
}
},
"initialExtent": {
"xmin": 1855600,
"ymin": 5789220,
"xmax": 1901856,
"ymax": 5830582,
"spatialReference": {
"wkid": 2193,
"latestWkid": 2193
}
},
"fullExtent": {
"xmin": 1855600,
"ymin": 5789220,
"xmax": 1901856,
"ymax": 5830582,
"spatialReference": {
"wkid": 2193,
"latestWkid": 2193
}
},
"sortableFields": "",
"bandCount": 1,
"pixelType": "F32",
"minValues": [
1.9999999949504854E-6
],
"maxValues": [
16.350000381469727
],
"meanValues": [
0.5147096142072125
],
"stdvValues": [
0.951234997776213
],
"serviceProperties": "Center<\/MosaicMethod>First<\/MosaicOperator>true<\/SortAscending><\/LockImageID><\/TileOrderField>0<\/TileOrderBase>0.000000<\/AvgImageSpacingX>0.000000<\/AvgImageSpacingY>0.0<\/ViewPointX>0.0<\/ViewPointY>0.0<\/ViewPointDefShiftX>0.0<\/ViewPointDefShiftY>None<\/CompressionMethod>75<\/CompressionQuality>0.010000<\/CompressionTolerance>Bilinear<\/SamplingMethod><\/ImageServiceProperties><\/ImageServer>",
"allowedFields": "",
"hasMultidimensions": false,
"pixelSizeX": 1,
"pixelSizeY": 1,
"meanPixelSize": 1,
"datasetFormat": "SDR",
"uncompressedSize": 7652962688,
"blockWidth": 128,
"blockHeight": 128,
"compressionType": "NONE",
"bandNames": [
"Band_1"
],
"allowCopy": true,
"allowAnalysis": true,
"itemAccess": false,
"inspectionCapabilities": "",
"minPixelSize": 0,
"maxPixelSize": 0,
"copyrightText": "Aaron Jeffries (GIS), Kate Dawkings (water engineer), Manasi Vaidya (planner).",
"serviceDataType": "esriImageServiceDataTypeGeneric",
"serviceSourceType": "esriImageServiceSourceTypeDataset",
"objectIdField": "",
"fields": [],
"capabilities": "Image,Metadata,Mensuration",
"defaultMosaicMethod": "Center",
"allowedMosaicMethods": "",
"sortField": "",
"sortValue": null,
"sortAscending": true,
"mosaicOperator": "First",
"defaultCompressionQuality": 75,
"defaultResamplingMethod": "Bilinear",
"maxImageHeight": 4100,
"maxImageWidth": 15000,
"allowRasterFunction": true,
"rasterFunctionInfos": [
{
"name": "None",
"description": "",
"help": ""
}
],
"rasterTypeInfos": [
{
"name": "Raster Dataset",
"description": "Supports all ArcGIS Raster Datasets",
"help": ""
}
],
"mensurationCapabilities": "Basic",
"hasHistograms": true,
"hasColormap": false,
"hasRasterAttributeTable": false,
"minScale": 0,
"maxScale": 0,
"exportTilesAllowed": false,
"supportsStatistics": false,
"supportsAdvancedQueries": false,
"editFieldsInfo": null,
"ownershipBasedAccessControlForRasters": null,
"allowComputeTiePoints": false,
"useStandardizedQueries": true,
"advancedQueryCapabilities": {
"useStandardizedQueries": true,
"supportsStatistics": false,
"supportsOrderBy": false,
"supportsDistinct": false,
"supportsPagination": false
},
"spatialReference": {
"wkid": 2193,
"latestWkid": 2193
}
}