View In:
ArcGIS JavaScript
ArcGIS Online Map Viewer
ArcGIS Earth
Service Description: RGB aerial photography captured for Tauranga City Council by by AAM NZ Ltd in 2021. Acquisition of the Tauranga block occurred on 8th and 14th of July 2021. Omokoroa and McLarens Falls were captured on 2nd August 2021.
Orthophotos delivered with 0.1m pixel resolution and supplied in NZTM map projection. The orthophoto spatial accuracy is +/- 0.3m (90% confidence).
Name: Aerial2021July
Description: RGB aerial photography captured for Tauranga City Council by by AAM NZ Ltd in 2021. Acquisition of the Tauranga block occurred on 8th and 14th of July 2021. Omokoroa and McLarens Falls were captured on 2nd August 2021.
Orthophotos delivered with 0.1m pixel resolution and supplied in NZTM map projection. The orthophoto spatial accuracy is +/- 0.3m (90% confidence).
Single Fused Map Cache: false
Extent:
XMin: 1863760.0
YMin: 5808120.0
XMax: 1905760.0
YMax: 5832600.0
Spatial Reference: 2193
(2193)
LatestVCSWkid(0)
Initial Extent:
XMin: 1863760.0
YMin: 5808120.0
XMax: 1905760.0
YMax: 5832600.0
Spatial Reference: 2193
(2193)
LatestVCSWkid(0)
Full Extent:
XMin: 1863760.0
YMin: 5808120.0
XMax: 1905760.0
YMax: 5832600.0
Spatial Reference: 2193
(2193)
LatestVCSWkid(0)
Pixel Size X: 0.1
Pixel Size Y: 0.1
Band Count: 3
Pixel Type: U8
RasterFunction Infos: {"rasterFunctionInfos": [{
"name": "None",
"description": "",
"help": ""
}]}
Mensuration Capabilities: None
Inspection Capabilities:
Has Histograms: true
Has Colormap: false
Has Multi Dimensions : false
Rendering Rule:
Min Scale: 0
Max Scale: 0
Resampling: false
Copyright Text: Captured by AAM NZ Ltd as part of the BOPLASS imagery capture programme.
Service Data Type: esriImageServiceDataTypeRGB
Min Values: 29, 35, 50
Max Values: 239, 231, 224
Mean Values: 130.10977186607897, 140.58958042753082, 118.15406971523814
Standard Deviation Values: 29.00524293928199, 23.079601187173477, 16.53052331739662
Object ID Field: OBJECTID
Fields:
-
OBJECTID
(
type: esriFieldTypeOID, alias: OBJECTID
)
-
Name
(
type: esriFieldTypeString, alias: Name, length: 200
)
-
MinPS
(
type: esriFieldTypeDouble, alias: MinPS
)
-
MaxPS
(
type: esriFieldTypeDouble, alias: MaxPS
)
-
LowPS
(
type: esriFieldTypeDouble, alias: LowPS
)
-
HighPS
(
type: esriFieldTypeDouble, alias: HighPS
)
-
Category
(
type: esriFieldTypeInteger, alias: Category
, Coded Values:
[0: Unknown]
, [1: Primary]
, [2: Overview]
, ...6 more...
)
-
Tag
(
type: esriFieldTypeString, alias: Tag, length: 100
)
-
GroupName
(
type: esriFieldTypeString, alias: GroupName, length: 100
)
-
ProductName
(
type: esriFieldTypeString, alias: ProductName, length: 100
)
-
CenterX
(
type: esriFieldTypeDouble, alias: CenterX
)
-
CenterY
(
type: esriFieldTypeDouble, alias: CenterY
)
-
ZOrder
(
type: esriFieldTypeInteger, alias: ZOrder
)
-
Shape
(
type: esriFieldTypeGeometry, alias: Shape
)
-
Shape.STArea()
(
type: esriFieldTypeDouble, alias: Shape.STArea()
)
-
Shape.STLength()
(
type: esriFieldTypeDouble, alias: Shape.STLength()
)
Default Mosaic Method: Northwest
Allowed Mosaic Methods: NorthWest,Center,LockRaster,ByAttribute,Nadir,Viewpoint,Seamline,None
SortField:
SortValue: null
Mosaic Operator: First
Default Compression Quality: 75
Default Resampling Method: Bilinear
Max Record Count: 1000
Max Image Height: 4100
Max Image Width: 15000
Max Download Image Count: 20
Max Mosaic Image Count: 20
Allow Raster Function: true
Allow Copy: true
Allow Analysis: true
Allow Compute TiePoints: false
Supports Statistics: true
Supports Advanced Queries: true
Use StandardizedQueries: true
Raster Type Infos:
Name: Raster Dataset
Description: Supports all ArcGIS Raster Datasets
Help:
Has Raster Attribute Table: false
Edit Fields Info: null
Ownership Based AccessControl For Rasters: null
Child Resources:
Info
Histograms
Statistics
Key Properties
Legend
Raster Function Infos
Supported Operations:
Export Image
Query
Identify
Compute Histograms
Compute Statistics Histograms
Get Samples
Compute Class Statistics
Query GPS Info
Find Images
Image to Map
Map to Image
Measure from Image
Image to Map Multiray
Query Boundary
Compute Pixel Location
Compute Angles
Validate
Project