RGB aerial photography captured for Tauranga City Council by by AAM NZ Ltd in 2021. Acquisition of the Tauranga block occurred on 8th and 14th of July 2021. Omokoroa and McLarens Falls were captured on 2nd August 2021.<\/span><\/p>Orthophotos delivered with 0.1m pixel resolution and supplied in NZTM map projection. The orthophoto spatial accuracy is +/- 0.3m (90% confidence). <\/span><\/p><\/div><\/div><\/div>",
"serviceItemId": "6cd97df045dd420d8d3ea8a36fa2a95d",
"name": "Aerial2021July",
"description": "RGB aerial photography captured for Tauranga City Council by by AAM NZ Ltd in 2021. Acquisition of the Tauranga block occurred on 8th and 14th of July 2021. Omokoroa and McLarens Falls were captured on 2nd August 2021.<\/span><\/p>Orthophotos delivered with 0.1m pixel resolution and supplied in NZTM map projection. The orthophoto spatial accuracy is +/- 0.3m (90% confidence). <\/span><\/p><\/div><\/div><\/div>",
"extent": {
"xmin": 1863760,
"ymin": 5808120,
"xmax": 1905760,
"ymax": 5832600,
"spatialReference": {
"wkid": 2193,
"latestWkid": 2193
}
},
"initialExtent": {
"xmin": 1863760,
"ymin": 5808120,
"xmax": 1905760,
"ymax": 5832600,
"spatialReference": {
"wkid": 2193,
"latestWkid": 2193
}
},
"fullExtent": {
"xmin": 1863760,
"ymin": 5808120,
"xmax": 1905760,
"ymax": 5832600,
"spatialReference": {
"wkid": 2193,
"latestWkid": 2193
}
},
"sortableFields": "MinPS,MaxPS,LowPS,HighPS,CenterX,CenterY,ZOrder,Shape.STArea(),Shape.STLength()",
"bandCount": 3,
"pixelType": "U8",
"minValues": [
29,
35,
50
],
"maxValues": [
239,
231,
224
],
"meanValues": [
130.10977186607897,
140.58958042753082,
118.15406971523814
],
"stdvValues": [
29.00524293928199,
23.079601187173477,
16.53052331739662
],
"serviceProperties": "NorthWest<\/MosaicMethod>First<\/MosaicOperator>true<\/SortAscending><\/LockImageID>Name<\/TileOrderField>0<\/TileOrderBase>600.000000<\/AvgImageSpacingX>300.000000<\/AvgImageSpacingY>0.0<\/ViewPointX>0.0<\/ViewPointY>0.0<\/ViewPointDefShiftX>0.0<\/ViewPointDefShiftY>None<\/CompressionMethod>75<\/CompressionQuality>0.010000<\/CompressionTolerance>Bilinear<\/SamplingMethod><\/ImageServiceProperties><\/ImageServer>",
"allowedFields": "Name,MinPS,MaxPS,LowPS,HighPS,Tag,GroupName,ProductName,CenterX,CenterY,ZOrder,Shape.STArea(),Shape.STLength()",
"hasMultidimensions": false,
"pixelSizeX": 0.1,
"pixelSizeY": 0.1,
"meanPixelSize": 0.1,
"datasetFormat": "AMD",
"uncompressedSize": 308448000000,
"blockWidth": 2048,
"blockHeight": 256,
"compressionType": "None",
"bandNames": [
"Red",
"Green",
"Blue"
],
"allowCopy": true,
"allowAnalysis": true,
"itemAccess": false,
"inspectionCapabilities": "",
"minPixelSize": 0,
"maxPixelSize": 0,
"copyrightText": "Captured by AAM NZ Ltd as part of the BOPLASS imagery capture programme.",
"serviceDataType": "esriImageServiceDataTypeRGB",
"serviceSourceType": "esriImageServiceSourceTypeMosaicDataset",
"objectIdField": "OBJECTID",
"fields": [
{
"name": "OBJECTID",
"type": "esriFieldTypeOID",
"alias": "OBJECTID",
"domain": null
},
{
"name": "Name",
"type": "esriFieldTypeString",
"alias": "Name",
"domain": null,
"length": 200
},
{
"name": "MinPS",
"type": "esriFieldTypeDouble",
"alias": "MinPS",
"domain": null
},
{
"name": "MaxPS",
"type": "esriFieldTypeDouble",
"alias": "MaxPS",
"domain": null
},
{
"name": "LowPS",
"type": "esriFieldTypeDouble",
"alias": "LowPS",
"domain": null
},
{
"name": "HighPS",
"type": "esriFieldTypeDouble",
"alias": "HighPS",
"domain": null
},
{
"name": "Category",
"type": "esriFieldTypeInteger",
"alias": "Category",
"domain": {
"type": "codedValue",
"name": "MosaicCatalogItemCategoryDomain",
"description": "Catalog item categories.",
"codedValues": [
{
"name": "Unknown",
"code": 0
},
{
"name": "Primary",
"code": 1
},
{
"name": "Overview",
"code": 2
},
{
"name": "Unprocessed Overview",
"code": 3
},
{
"name": "Partial Overview",
"code": 4
},
{
"name": "Inactive",
"code": 5
},
{
"name": "Uploaded",
"code": 253
},
{
"name": "Incomplete",
"code": 254
},
{
"name": "Custom",
"code": 255
}
],
"mergePolicy": "esriMPTDefaultValue",
"splitPolicy": "esriSPTDefaultValue"
}
},
{
"name": "Tag",
"type": "esriFieldTypeString",
"alias": "Tag",
"domain": null,
"length": 100
},
{
"name": "GroupName",
"type": "esriFieldTypeString",
"alias": "GroupName",
"domain": null,
"length": 100
},
{
"name": "ProductName",
"type": "esriFieldTypeString",
"alias": "ProductName",
"domain": null,
"length": 100
},
{
"name": "CenterX",
"type": "esriFieldTypeDouble",
"alias": "CenterX",
"domain": null
},
{
"name": "CenterY",
"type": "esriFieldTypeDouble",
"alias": "CenterY",
"domain": null
},
{
"name": "ZOrder",
"type": "esriFieldTypeInteger",
"alias": "ZOrder",
"domain": null
},
{
"name": "Shape",
"type": "esriFieldTypeGeometry",
"alias": "Shape",
"domain": null
},
{
"name": "Shape.STArea()",
"type": "esriFieldTypeDouble",
"alias": "Shape.STArea()",
"domain": null
},
{
"name": "Shape.STLength()",
"type": "esriFieldTypeDouble",
"alias": "Shape.STLength()",
"domain": null
}
],
"capabilities": "Catalog,Image,Metadata",
"defaultMosaicMethod": "Northwest",
"allowedMosaicMethods": "NorthWest,Center,LockRaster,ByAttribute,Nadir,Viewpoint,Seamline,None",
"sortField": "",
"sortValue": null,
"sortAscending": true,
"mosaicOperator": "First",
"maxDownloadSizeLimit": 2048,
"defaultCompressionQuality": 75,
"defaultResamplingMethod": "Bilinear",
"maxImageHeight": 4100,
"maxImageWidth": 15000,
"maxRecordCount": 1000,
"maxDownloadImageCount": 20,
"maxMosaicImageCount": 20,
"allowRasterFunction": true,
"rasterFunctionInfos": [
{
"name": "None",
"description": "",
"help": ""
}
],
"rasterTypeInfos": [
{
"name": "Raster Dataset",
"description": "Supports all ArcGIS Raster Datasets",
"help": ""
}
],
"mensurationCapabilities": "None",
"hasHistograms": true,
"hasColormap": false,
"hasRasterAttributeTable": false,
"minScale": 0,
"maxScale": 0,
"exportTilesAllowed": false,
"supportsStatistics": true,
"supportsAdvancedQueries": true,
"editFieldsInfo": null,
"ownershipBasedAccessControlForRasters": null,
"allowComputeTiePoints": false,
"useStandardizedQueries": true,
"advancedQueryCapabilities": {
"useStandardizedQueries": true,
"supportsStatistics": true,
"supportsOrderBy": true,
"supportsDistinct": true,
"supportsPagination": true
},
"spatialReference": {
"wkid": 2193,
"latestWkid": 2193
},
"resampling": false
}