View In:
ArcGIS JavaScript
ArcGIS Online Map Viewer
ArcGIS Earth
Service Description: RGB aerial photography captured for Tauranga City Council by Aerial Surveys Ltd in 2014/2015.
Flown on 03/12/2014, 08/12/2014 & 01/03/2015 at 2,403m giving a 0.125m pixel resolution.
Urban 0.125m GSD imagery – using a Vexel digital UCE camera and by flying with 60% forward overlap and with 30% sidelap (standard stereo coverage), maximum 1.2m building lean per 3m height within the image model area.
Spatial Accuracy:
±0.20m @ 95% confidence level in clear open spaces (2 sigma) over new DTM area
±0.28m @ 95% confidence level in clear open spaces (2 sigma) over existing 1:1,000 LiDAR DTM
Name: Aerial2015_
Description: RGB aerial photography captured for Tauranga City Council by Aerial Surveys Ltd in 2014/2015.
Flown on 03/12/2014, 08/12/2014 & 01/03/2015 at 2,403m giving a 0.125m pixel resolution.
Urban 0.125m GSD imagery – using a Vexel digital UCE camera and by flying with 60% forward overlap and with 30% sidelap (standard stereo coverage), maximum 1.2m building lean per 3m height within the image model area.
Spatial Accuracy:
±0.20m @ 95% confidence level in clear open spaces (2 sigma) over new DTM area
±0.28m @ 95% confidence level in clear open spaces (2 sigma) over existing 1:1,000 LiDAR DTM
Single Fused Map Cache: false
Extent:
XMin: 1856319.999967818
YMin: 5780399.999954842
XMax: 1990239.999967818
YMax: 5858159.999954842
Spatial Reference: 2193
(2193)
LatestVCSWkid(0)
Initial Extent:
XMin: 1856319.999967818
YMin: 5780399.999954842
XMax: 1990239.999967818
YMax: 5858159.999954842
Spatial Reference: 2193
(2193)
LatestVCSWkid(0)
Full Extent:
XMin: 1856319.999967818
YMin: 5780399.999954842
XMax: 1990239.999967818
YMax: 5858159.999954842
Spatial Reference: 2193
(2193)
LatestVCSWkid(0)
Pixel Size X: 0.125
Pixel Size Y: 0.125
Band Count: 3
Pixel Type: U8
RasterFunction Infos: {"rasterFunctionInfos": [{
"name": "None",
"description": "",
"help": ""
}]}
Mensuration Capabilities: None
Inspection Capabilities:
Has Histograms: true
Has Colormap: false
Has Multi Dimensions : false
Rendering Rule:
Min Scale: 0
Max Scale: 0
Resampling: false
Copyright Text: Captured by Aerial Surveys as part of the BOPLASS imagery capture programme.
Service Data Type: esriImageServiceDataTypeRGB
Min Values: 0, 11, 26
Max Values: 255, 247, 255
Mean Values: 103.37196874894252, 117.4123177867225, 103.64867363389364
Standard Deviation Values: 35.85781631060073, 26.748338051520836, 25.994469669500155
Object ID Field: OBJECTID
Fields:
-
OBJECTID
(
type: esriFieldTypeOID, alias: OBJECTID
)
-
Name
(
type: esriFieldTypeString, alias: Name, length: 200
)
-
MinPS
(
type: esriFieldTypeDouble, alias: MinPS
)
-
MaxPS
(
type: esriFieldTypeDouble, alias: MaxPS
)
-
LowPS
(
type: esriFieldTypeDouble, alias: LowPS
)
-
HighPS
(
type: esriFieldTypeDouble, alias: HighPS
)
-
Category
(
type: esriFieldTypeInteger, alias: Category
)
-
Tag
(
type: esriFieldTypeString, alias: Tag, length: 100
)
-
GroupName
(
type: esriFieldTypeString, alias: GroupName, length: 100
)
-
ProductName
(
type: esriFieldTypeString, alias: ProductName, length: 100
)
-
CenterX
(
type: esriFieldTypeDouble, alias: CenterX
)
-
CenterY
(
type: esriFieldTypeDouble, alias: CenterY
)
-
ZOrder
(
type: esriFieldTypeInteger, alias: ZOrder
)
-
Shape
(
type: esriFieldTypeGeometry, alias: Shape
)
-
Shape.STArea()
(
type: esriFieldTypeDouble, alias: Shape.STArea()
)
-
Shape.STLength()
(
type: esriFieldTypeDouble, alias: Shape.STLength()
)
Default Mosaic Method: Northwest
Allowed Mosaic Methods: NorthWest,Center,LockRaster,ByAttribute,Nadir,Viewpoint,Seamline,None
SortField:
SortValue: null
Mosaic Operator: First
Default Compression Quality: 75
Default Resampling Method: Bilinear
Max Record Count: 1000
Max Image Height: 4100
Max Image Width: 15000
Max Download Image Count: 20
Max Mosaic Image Count: 20
Allow Raster Function: true
Allow Copy: true
Allow Analysis: true
Allow Compute TiePoints: false
Supports Statistics: true
Supports Advanced Queries: true
Use StandardizedQueries: true
Raster Type Infos:
Name: Raster Dataset
Description: Supports all ArcGIS Raster Datasets
Help:
Has Raster Attribute Table: false
Edit Fields Info: null
Ownership Based AccessControl For Rasters: null
Child Resources:
Info
Histograms
Statistics
Key Properties
Legend
Raster Function Infos
Supported Operations:
Export Image
Query
Identify
Compute Histograms
Compute Statistics Histograms
Get Samples
Compute Class Statistics
Query GPS Info
Find Images
Image to Map
Map to Image
Measure from Image
Image to Map Multiray
Query Boundary
Compute Pixel Location
Compute Angles
Validate
Project