RGB aerial photography captured for Tauranga City Council by Aerial Surveys Ltd in 2014/2015.<\/span><\/p>Flown on 03/12/2014, 08/12/2014 & 01/03/2015 at 2,403m giving a 0.125m pixel resolution.<\/span><\/p>Urban 0.125m GSD imagery \u2013 using a Vexel digital UCE camera and by flying with 60% forward overlap and with 30% sidelap (standard stereo coverage), maximum 1.2m building lean per 3m height within the image model area.<\/span><\/p>Spatial Accuracy:<\/span><\/p>±0.20m @ 95% confidence level in clear open spaces (2 sigma) over new DTM area<\/span><\/p>±0.28m @ 95% confidence level in clear open spaces (2 sigma) over existing 1:1,000 LiDAR DTM<\/span><\/p><\/div><\/div><\/div>",
"serviceItemId": "c5f099dbb3704d09b667e6514d8b4001",
"name": "Aerial2015_",
"description": "RGB aerial photography captured for Tauranga City Council by Aerial Surveys Ltd in 2014/2015.<\/span><\/p>Flown on 03/12/2014, 08/12/2014 & 01/03/2015 at 2,403m giving a 0.125m pixel resolution.<\/span><\/p>Urban 0.125m GSD imagery \u2013 using a Vexel digital UCE camera and by flying with 60% forward overlap and with 30% sidelap (standard stereo coverage), maximum 1.2m building lean per 3m height within the image model area.<\/span><\/p>Spatial Accuracy:<\/span><\/p>±0.20m @ 95% confidence level in clear open spaces (2 sigma) over new DTM area<\/span><\/p>±0.28m @ 95% confidence level in clear open spaces (2 sigma) over existing 1:1,000 LiDAR DTM<\/span><\/p><\/div><\/div><\/div>",
"extent": {
"xmin": 1856319.999967818,
"ymin": 5780399.999954842,
"xmax": 1990239.999967818,
"ymax": 5858159.999954842,
"spatialReference": {
"wkid": 2193,
"latestWkid": 2193
}
},
"initialExtent": {
"xmin": 1856319.999967818,
"ymin": 5780399.999954842,
"xmax": 1990239.999967818,
"ymax": 5858159.999954842,
"spatialReference": {
"wkid": 2193,
"latestWkid": 2193
}
},
"fullExtent": {
"xmin": 1856319.999967818,
"ymin": 5780399.999954842,
"xmax": 1990239.999967818,
"ymax": 5858159.999954842,
"spatialReference": {
"wkid": 2193,
"latestWkid": 2193
}
},
"sortableFields": "MinPS,MaxPS,LowPS,HighPS,CenterX,CenterY,ZOrder,Shape.STArea(),Shape.STLength()",
"bandCount": 3,
"pixelType": "U8",
"minValues": [
0,
11,
26
],
"maxValues": [
255,
247,
255
],
"meanValues": [
103.37196874894252,
117.4123177867225,
103.64867363389364
],
"stdvValues": [
35.85781631060073,
26.748338051520836,
25.994469669500155
],
"serviceProperties": "NorthWest<\/MosaicMethod>First<\/MosaicOperator>true<\/SortAscending><\/LockImageID>Name<\/TileOrderField>0<\/TileOrderBase>600.000000<\/AvgImageSpacingX>300.000000<\/AvgImageSpacingY>0.0<\/ViewPointX>0.0<\/ViewPointY>0.0<\/ViewPointDefShiftX>0.0<\/ViewPointDefShiftY>None<\/CompressionMethod>75<\/CompressionQuality>0.010000<\/CompressionTolerance>Bilinear<\/SamplingMethod><\/ImageServiceProperties><\/ImageServer>",
"allowedFields": "Name,MinPS,MaxPS,LowPS,HighPS,Tag,GroupName,ProductName,CenterX,CenterY,ZOrder,Shape.STArea(),Shape.STLength()",
"hasMultidimensions": false,
"pixelSizeX": 0.125,
"pixelSizeY": 0.125,
"meanPixelSize": 0.125,
"datasetFormat": "AMD",
"uncompressedSize": 1999414886400,
"blockWidth": 2048,
"blockHeight": 256,
"compressionType": "None",
"bandNames": [
"Red",
"Green",
"Blue"
],
"allowCopy": true,
"allowAnalysis": true,
"itemAccess": false,
"inspectionCapabilities": "",
"minPixelSize": 0,
"maxPixelSize": 0,
"copyrightText": "Captured by Aerial Surveys as part of the BOPLASS imagery capture programme.",
"serviceDataType": "esriImageServiceDataTypeRGB",
"serviceSourceType": "esriImageServiceSourceTypeMosaicDataset",
"objectIdField": "OBJECTID",
"fields": [
{
"name": "OBJECTID",
"type": "esriFieldTypeOID",
"alias": "OBJECTID",
"domain": null
},
{
"name": "Name",
"type": "esriFieldTypeString",
"alias": "Name",
"domain": null,
"length": 200
},
{
"name": "MinPS",
"type": "esriFieldTypeDouble",
"alias": "MinPS",
"domain": null
},
{
"name": "MaxPS",
"type": "esriFieldTypeDouble",
"alias": "MaxPS",
"domain": null
},
{
"name": "LowPS",
"type": "esriFieldTypeDouble",
"alias": "LowPS",
"domain": null
},
{
"name": "HighPS",
"type": "esriFieldTypeDouble",
"alias": "HighPS",
"domain": null
},
{
"name": "Category",
"type": "esriFieldTypeInteger",
"alias": "Category",
"domain": null
},
{
"name": "Tag",
"type": "esriFieldTypeString",
"alias": "Tag",
"domain": null,
"length": 100
},
{
"name": "GroupName",
"type": "esriFieldTypeString",
"alias": "GroupName",
"domain": null,
"length": 100
},
{
"name": "ProductName",
"type": "esriFieldTypeString",
"alias": "ProductName",
"domain": null,
"length": 100
},
{
"name": "CenterX",
"type": "esriFieldTypeDouble",
"alias": "CenterX",
"domain": null
},
{
"name": "CenterY",
"type": "esriFieldTypeDouble",
"alias": "CenterY",
"domain": null
},
{
"name": "ZOrder",
"type": "esriFieldTypeInteger",
"alias": "ZOrder",
"domain": null
},
{
"name": "Shape",
"type": "esriFieldTypeGeometry",
"alias": "Shape",
"domain": null
},
{
"name": "Shape.STArea()",
"type": "esriFieldTypeDouble",
"alias": "Shape.STArea()",
"domain": null
},
{
"name": "Shape.STLength()",
"type": "esriFieldTypeDouble",
"alias": "Shape.STLength()",
"domain": null
}
],
"capabilities": "Catalog,Image,Metadata",
"defaultMosaicMethod": "Northwest",
"allowedMosaicMethods": "NorthWest,Center,LockRaster,ByAttribute,Nadir,Viewpoint,Seamline,None",
"sortField": "",
"sortValue": null,
"sortAscending": true,
"mosaicOperator": "First",
"maxDownloadSizeLimit": 2048,
"defaultCompressionQuality": 75,
"defaultResamplingMethod": "Bilinear",
"maxImageHeight": 4100,
"maxImageWidth": 15000,
"maxRecordCount": 1000,
"maxDownloadImageCount": 20,
"maxMosaicImageCount": 20,
"allowRasterFunction": true,
"rasterFunctionInfos": [
{
"name": "None",
"description": "",
"help": ""
}
],
"rasterTypeInfos": [
{
"name": "Raster Dataset",
"description": "Supports all ArcGIS Raster Datasets",
"help": ""
}
],
"mensurationCapabilities": "None",
"hasHistograms": true,
"hasColormap": false,
"hasRasterAttributeTable": false,
"minScale": 0,
"maxScale": 0,
"exportTilesAllowed": false,
"supportsStatistics": true,
"supportsAdvancedQueries": true,
"editFieldsInfo": null,
"ownershipBasedAccessControlForRasters": null,
"allowComputeTiePoints": false,
"useStandardizedQueries": true,
"advancedQueryCapabilities": {
"useStandardizedQueries": true,
"supportsStatistics": true,
"supportsOrderBy": true,
"supportsDistinct": true,
"supportsPagination": true
},
"spatialReference": {
"wkid": 2193,
"latestWkid": 2193
},
"resampling": false
}