View In:
ArcGIS JavaScript
ArcGIS Online Map Viewer
ArcGIS Earth
Service Description: An interpolated gridsurface (20m cells) mapping the depth (m relative to ground) to median groundwater level at 200cm sea level rise. A 200cm offset was added to the GWLmedian (GWLp50) to create SLR200cm_GWL, which was then subtracted from the ground elevation DEM. Values in metres relative to the 2020 LiDAR land surface model. Negative values represent inundation of groundwater.
Name: GroundWater_SLR200cm_DTW
Description: An interpolated gridsurface (20m cells) mapping the depth (m relative to ground) to median groundwater level at 200cm sea level rise. A 200cm offset was added to the GWLmedian (GWLp50) to create SLR200cm_GWL, which was then subtracted from the ground elevation DEM. Values in metres relative to the 2020 LiDAR land surface model. Negative values represent inundation of groundwater.
Single Fused Map Cache: false
Extent:
XMin: 1870215.7687
YMin: 5814844.8023
XMax: 1901635.7687
YMax: 5832804.8023
Spatial Reference: 2193
(2193)
VCSWkid(7839)
LatestVCSWkid(7839)
Initial Extent:
XMin: 1870215.7687
YMin: 5814844.8023
XMax: 1901635.7687
YMax: 5832804.8023
Spatial Reference: 2193
(2193)
VCSWkid(7839)
LatestVCSWkid(7839)
Full Extent:
XMin: 1870215.7687
YMin: 5814844.8023
XMax: 1901635.7687
YMax: 5832804.8023
Spatial Reference: 2193
(2193)
VCSWkid(7839)
LatestVCSWkid(7839)
Pixel Size X: 20.0
Pixel Size Y: 20.0
Band Count: 1
Pixel Type: F32
RasterFunction Infos: {"rasterFunctionInfos": [{
"name": "None",
"description": "",
"help": ""
}]}
Mensuration Capabilities: Basic
Inspection Capabilities:
Has Histograms: true
Has Colormap: false
Has Multi Dimensions : false
Rendering Rule:
Min Scale: 0
Max Scale: 0
Resampling: false
Copyright Text: Simon Cox/GNS Science 2022-2023
Service Data Type: esriImageServiceDataTypeGeneric
Min Values: -4.264516353607178
Max Values: 226.9572296142578
Mean Values: 14.869786112367423
Standard Deviation Values: 22.32899381248536
Object ID Field:
Fields:
None
Default Mosaic Method: Center
Allowed Mosaic Methods:
SortField:
SortValue: null
Mosaic Operator: First
Default Compression Quality: 10000
Default Resampling Method: Bilinear
Max Record Count: null
Max Image Height: 4100
Max Image Width: 15000
Max Download Image Count: null
Max Mosaic Image Count: null
Allow Raster Function: true
Allow Copy: true
Allow Analysis: true
Allow Compute TiePoints: false
Supports Statistics: false
Supports Advanced Queries: false
Use StandardizedQueries: true
Raster Type Infos:
Name: Raster Dataset
Description: Supports all ArcGIS Raster Datasets
Help:
Has Raster Attribute Table: false
Edit Fields Info: null
Ownership Based AccessControl For Rasters: null
Child Resources:
Info
Histograms
Statistics
Key Properties
Legend
Raster Function Infos
Supported Operations:
Export Image
Identify
Measure
Compute Histograms
Compute Statistics Histograms
Get Samples
Compute Class Statistics
Query Boundary
Compute Pixel Location
Compute Angles
Validate
Project