View In:
ArcGIS JavaScript
ArcGIS Online Map Viewer
ArcGIS Earth
Service Description: An interpolated gridsurface (20m cells) mapping the 95th PERCENTILE elevation (m NZVD2016) of groundwater monitored in the period 2015/08/20-2021/07/28. Surface generated using boundary points for the harbour (1.07m) and coast (1.02m).
Name: GroundWater_GWLp95
Description: An interpolated gridsurface (20m cells) mapping the 95th PERCENTILE elevation (m NZVD2016) of groundwater monitored in the period 2015/08/20-2021/07/28. Surface generated using boundary points for the harbour (1.07m) and coast (1.02m).
Single Fused Map Cache: false
Extent:
XMin: 1870235.7687
YMin: 5814844.8023
XMax: 1901635.7687
YMax: 5832804.8023
Spatial Reference: 2193
(2193)
VCSWkid(7839)
LatestVCSWkid(7839)
Initial Extent:
XMin: 1870235.7687
YMin: 5814844.8023
XMax: 1901635.7687
YMax: 5832804.8023
Spatial Reference: 2193
(2193)
VCSWkid(7839)
LatestVCSWkid(7839)
Full Extent:
XMin: 1870235.7687
YMin: 5814844.8023
XMax: 1901635.7687
YMax: 5832804.8023
Spatial Reference: 2193
(2193)
VCSWkid(7839)
LatestVCSWkid(7839)
Pixel Size X: 20.0
Pixel Size Y: 20.0
Band Count: 1
Pixel Type: F32
RasterFunction Infos: {"rasterFunctionInfos": [{
"name": "None",
"description": "",
"help": ""
}]}
Mensuration Capabilities: Basic
Inspection Capabilities:
Has Histograms: true
Has Colormap: false
Has Multi Dimensions : false
Rendering Rule:
Min Scale: 0
Max Scale: 0
Resampling: false
Copyright Text: Simon Cox/GNS Science 2022-2023
Service Data Type: esriImageServiceDataTypeGeneric
Min Values: -0.12722866237163544
Max Values: 7.925837993621826
Mean Values: 2.063372270302953
Standard Deviation Values: 1.2235581251678918
Object ID Field:
Fields:
None
Default Mosaic Method: Center
Allowed Mosaic Methods:
SortField:
SortValue: null
Mosaic Operator: First
Default Compression Quality: 10000
Default Resampling Method: Bilinear
Max Record Count: null
Max Image Height: 4100
Max Image Width: 15000
Max Download Image Count: null
Max Mosaic Image Count: null
Allow Raster Function: true
Allow Copy: true
Allow Analysis: true
Allow Compute TiePoints: false
Supports Statistics: false
Supports Advanced Queries: false
Use StandardizedQueries: true
Raster Type Infos:
Name: Raster Dataset
Description: Supports all ArcGIS Raster Datasets
Help:
Has Raster Attribute Table: false
Edit Fields Info: null
Ownership Based AccessControl For Rasters: null
Child Resources:
Info
Histograms
Statistics
Key Properties
Legend
Raster Function Infos
Supported Operations:
Export Image
Identify
Measure
Compute Histograms
Compute Statistics Histograms
Get Samples
Compute Class Statistics
Query Boundary
Compute Pixel Location
Compute Angles
Validate
Project