View In:
ArcGIS JavaScript
ArcGIS Online Map Viewer
ArcGIS Earth
Service Description: An interpolated gridsurface (20m cells) mapping the depth (m relative to ground) to median (p50) groundwater level measured in the period 2015/08/20-2021/07/28. Surface generated using GWLp50, with boundary points in the harbour (-0.02m) and coast (-0.07m). Values in metres relative to the 2020 LiDAR land surface model.
Name: GroundWater_DTWp50
Description: An interpolated gridsurface (20m cells) mapping the depth (m relative to ground) to median (p50) groundwater level measured in the period 2015/08/20-2021/07/28. Surface generated using GWLp50, with boundary points in the harbour (-0.02m) and coast (-0.07m). Values in metres relative to the 2020 LiDAR land surface model.
Single Fused Map Cache: false
Extent:
XMin: 1860635.0
YMin: 5805844.0
XMax: 1906635.0
YMax: 5832824.0
Spatial Reference: 2193
(2193)
VCSWkid(7839)
LatestVCSWkid(7839)
Initial Extent:
XMin: 1860635.0
YMin: 5805844.0
XMax: 1906635.0
YMax: 5832824.0
Spatial Reference: 2193
(2193)
VCSWkid(7839)
LatestVCSWkid(7839)
Full Extent:
XMin: 1860635.0
YMin: 5805844.0
XMax: 1906635.0
YMax: 5832824.0
Spatial Reference: 2193
(2193)
VCSWkid(7839)
LatestVCSWkid(7839)
Pixel Size X: 20.0
Pixel Size Y: 20.0
Band Count: 1
Pixel Type: F32
RasterFunction Infos: {"rasterFunctionInfos": [{
"name": "None",
"description": "",
"help": ""
}]}
Mensuration Capabilities: Basic
Inspection Capabilities:
Has Histograms: true
Has Colormap: false
Has Multi Dimensions : false
Rendering Rule:
Min Scale: 0
Max Scale: 0
Resampling: false
Copyright Text: Simon Cox/GNS Science 2022-2023
Service Data Type: esriImageServiceDataTypeGeneric
Min Values: -2.264516592025757
Max Values: 228.9572296142578
Mean Values: 16.869786112884558
Standard Deviation Values: 22.32899381371162
Object ID Field:
Fields:
None
Default Mosaic Method: Center
Allowed Mosaic Methods:
SortField:
SortValue: null
Mosaic Operator: First
Default Compression Quality: 10000
Default Resampling Method: Bilinear
Max Record Count: null
Max Image Height: 4100
Max Image Width: 15000
Max Download Image Count: null
Max Mosaic Image Count: null
Allow Raster Function: true
Allow Copy: true
Allow Analysis: true
Allow Compute TiePoints: false
Supports Statistics: false
Supports Advanced Queries: false
Use StandardizedQueries: true
Raster Type Infos:
Name: Raster Dataset
Description: Supports all ArcGIS Raster Datasets
Help:
Has Raster Attribute Table: false
Edit Fields Info: null
Ownership Based AccessControl For Rasters: null
Child Resources:
Info
Histograms
Statistics
Key Properties
Legend
Raster Function Infos
Supported Operations:
Export Image
Identify
Measure
Compute Histograms
Compute Statistics Histograms
Get Samples
Compute Class Statistics
Query Boundary
Compute Pixel Location
Compute Angles
Validate
Project