View In:
ArcGIS JavaScript
ArcGIS Online Map Viewer
ArcGIS Earth
Service Description: Drone imagery to capture layout of Waiari water intake site. Flown at 120m with imagery supplied at 2.83cm pixel resolution (0.028m GSD) in terms of New Zealand Transverse Mercator (NZTM) map projection.
Name: Drone20230629Waiari
Description: Drone imagery to capture layout of Waiari water intake site. Flown at 120m with imagery supplied at 2.83cm pixel resolution (0.028m GSD) in terms of New Zealand Transverse Mercator (NZTM) map projection.
Single Fused Map Cache: false
Extent:
XMin: 1892795.9868498968
YMin: 5808619.494657578
XMax: 1893333.7311150967
YMax: 5809531.636139678
Spatial Reference: 2193
(2193)
VCSWkid(7839)
LatestVCSWkid(7839)
Initial Extent:
XMin: 1892795.9868498968
YMin: 5808619.494657578
XMax: 1893333.7311150967
YMax: 5809531.636139678
Spatial Reference: 2193
(2193)
VCSWkid(7839)
LatestVCSWkid(7839)
Full Extent:
XMin: 1892795.9868498968
YMin: 5808619.494657578
XMax: 1893333.7311150967
YMax: 5809531.636139678
Spatial Reference: 2193
(2193)
VCSWkid(7839)
LatestVCSWkid(7839)
Pixel Size X: 0.02834409999999324
Pixel Size Y: 0.028344099999996604
Band Count: 3
Pixel Type: U8
RasterFunction Infos: {"rasterFunctionInfos": [{
"name": "None",
"description": "",
"help": ""
}]}
Mensuration Capabilities: None
Inspection Capabilities:
Has Histograms: true
Has Colormap: false
Has Multi Dimensions : false
Rendering Rule:
Min Scale: 0
Max Scale: 0
Copyright Text: Nathan Sykes (TCC GIS), Bryan Everitt (TCC City Waters)
Service Data Type: esriImageServiceDataTypeProcessed
Min Values: 0, 2, 1
Max Values: 255, 255, 255
Mean Values: 186.96326293612546, 193.1061332922228, 180.23024099480384
Standard Deviation Values: 87.15506044215121, 79.46540951143726, 92.00572144807026
Object ID Field: OBJECTID
Fields:
-
OBJECTID
(
type: esriFieldTypeOID, alias: OBJECTID
)
-
Name
(
type: esriFieldTypeString, alias: Name, length: 200
)
-
MinPS
(
type: esriFieldTypeDouble, alias: MinPS
)
-
MaxPS
(
type: esriFieldTypeDouble, alias: MaxPS
)
-
LowPS
(
type: esriFieldTypeDouble, alias: LowPS
)
-
HighPS
(
type: esriFieldTypeDouble, alias: HighPS
)
-
Category
(
type: esriFieldTypeInteger, alias: Category
, Coded Values:
[0: Unknown]
, [1: Primary]
, [2: Overview]
, ...6 more...
)
-
Tag
(
type: esriFieldTypeString, alias: Tag, length: 100
)
-
GroupName
(
type: esriFieldTypeString, alias: GroupName, length: 100
)
-
ProductName
(
type: esriFieldTypeString, alias: ProductName, length: 100
)
-
CenterX
(
type: esriFieldTypeDouble, alias: CenterX
)
-
CenterY
(
type: esriFieldTypeDouble, alias: CenterY
)
-
ZOrder
(
type: esriFieldTypeInteger, alias: ZOrder
)
-
JobID
(
type: esriFieldTypeString, alias: JobID, length: 50
)
-
FlightDate
(
type: esriFieldTypeDate, alias: FlightDate, length: 8
)
-
Notes
(
type: esriFieldTypeString, alias: Notes, length: 100
)
-
Shape
(
type: esriFieldTypeGeometry, alias: Shape
)
-
Shape.STArea()
(
type: esriFieldTypeDouble, alias: Shape.STArea()
)
-
Shape.STLength()
(
type: esriFieldTypeDouble, alias: Shape.STLength()
)
Default Mosaic Method: Northwest
Allowed Mosaic Methods: NorthWest,Center,LockRaster,ByAttribute,Nadir,Viewpoint,Seamline,None
SortField:
SortValue: null
Mosaic Operator: First
Default Compression Quality: 75
Default Resampling Method: Bilinear
Max Record Count: 1000
Max Image Height: 4100
Max Image Width: 15000
Max Download Image Count: 20
Max Mosaic Image Count: 20
Allow Raster Function: true
Allow Copy: true
Allow Analysis: true
Allow Compute TiePoints: false
Supports Statistics: true
Supports Advanced Queries: true
Use StandardizedQueries: true
Raster Type Infos:
Name: Raster Dataset
Description: Supports all ArcGIS Raster Datasets
Help:
Has Raster Attribute Table: false
Edit Fields Info: null
Ownership Based AccessControl For Rasters: null
Child Resources:
Info
Histograms
Statistics
Key Properties
Legend
Raster Function Infos
Supported Operations:
Export Image
Query
Identify
Compute Histograms
Compute Statistics Histograms
Get Samples
Compute Class Statistics
Query GPS Info
Find Images
Image to Map
Map to Image
Measure from Image
Image to Map Multiray
Query Boundary
Compute Pixel Location
Compute Angles
Validate
Project