View In:
ArcGIS JavaScript
ArcGIS Online Map Viewer
ArcGIS Earth
Service Description: This project is for provision of Airborne LiDAR survey over 311 km2 at Tauranga and McLaren Falls, in the Bay of Plenty. This dataset is part of the BOPLASS capture programme for 2022-2023.
Capture was completed between 2nd and 3rd of December 2022.
The survey was planned to achieve +/-10cm vertical accuracy (RMS), +/- 30cm horizontal accuracy (RMS) with an emitted pulse density of 8ppsm. Ground classification to ICSM level 2.
Name: DEM2022_1m_NZVD16
Description: This project is for provision of Airborne LiDAR survey over 311 km2 at Tauranga and McLaren Falls, in the Bay of Plenty. This dataset is part of the BOPLASS capture programme for 2022-2023.
Capture was completed between 2nd and 3rd of December 2022.
The survey was planned to achieve +/-10cm vertical accuracy (RMS), +/- 30cm horizontal accuracy (RMS) with an emitted pulse density of 8ppsm. Ground classification to ICSM level 2.
Single Fused Map Cache: false
Extent:
XMin: 1865440.0
YMin: 5807760.0
XMax: 1901920.0
YMax: 5831520.0
Spatial Reference: 2193
(2193)
VCSWkid(7839)
LatestVCSWkid(7839)
Initial Extent:
XMin: 1865440.0
YMin: 5807760.0
XMax: 1901920.0
YMax: 5831520.0
Spatial Reference: 2193
(2193)
VCSWkid(7839)
LatestVCSWkid(7839)
Full Extent:
XMin: 1865440.0
YMin: 5807760.0
XMax: 1901920.0
YMax: 5831520.0
Spatial Reference: 2193
(2193)
VCSWkid(7839)
LatestVCSWkid(7839)
Pixel Size X: 1.0
Pixel Size Y: 1.0
Band Count: 1
Pixel Type: F32
RasterFunction Infos: {"rasterFunctionInfos": [{
"name": "None",
"description": "",
"help": ""
}]}
Mensuration Capabilities: None
Inspection Capabilities:
Has Histograms: true
Has Colormap: false
Has Multi Dimensions : false
Rendering Rule:
Min Scale: 0
Max Scale: 0
Copyright Text: Captured by AAP Pty Limited (AAM) for TCC as part of the BOPLASS aerial imagery capture programme.
Service Data Type: esriImageServiceDataTypeGeneric
Min Values: -2.1710000038146973
Max Values: 307.843994140625
Mean Values: 34.0924609036465
Standard Deviation Values: 52.48589578565672
Object ID Field: OBJECTID
Fields:
-
OBJECTID
(
type: esriFieldTypeOID, alias: OBJECTID
)
-
Name
(
type: esriFieldTypeString, alias: Name, length: 200
)
-
MinPS
(
type: esriFieldTypeDouble, alias: MinPS
)
-
MaxPS
(
type: esriFieldTypeDouble, alias: MaxPS
)
-
LowPS
(
type: esriFieldTypeDouble, alias: LowPS
)
-
HighPS
(
type: esriFieldTypeDouble, alias: HighPS
)
-
Category
(
type: esriFieldTypeInteger, alias: Category
, Coded Values:
[0: Unknown]
, [1: Primary]
, [2: Overview]
, ...6 more...
)
-
Tag
(
type: esriFieldTypeString, alias: Tag, length: 100
)
-
GroupName
(
type: esriFieldTypeString, alias: GroupName, length: 100
)
-
ProductName
(
type: esriFieldTypeString, alias: ProductName, length: 100
)
-
CenterX
(
type: esriFieldTypeDouble, alias: CenterX
)
-
CenterY
(
type: esriFieldTypeDouble, alias: CenterY
)
-
ZOrder
(
type: esriFieldTypeInteger, alias: ZOrder
)
-
Shape
(
type: esriFieldTypeGeometry, alias: Shape
)
-
Shape.STArea()
(
type: esriFieldTypeDouble, alias: Shape.STArea()
)
-
Shape.STLength()
(
type: esriFieldTypeDouble, alias: Shape.STLength()
)
Default Mosaic Method: Northwest
Allowed Mosaic Methods: NorthWest,Center,LockRaster,ByAttribute,Nadir,Viewpoint,Seamline,None
SortField:
SortValue: null
Mosaic Operator: First
Default Compression Quality: 75
Default Resampling Method: Bilinear
Max Record Count: 1000
Max Image Height: 4100
Max Image Width: 15000
Max Download Image Count: 20
Max Mosaic Image Count: 20
Allow Raster Function: true
Allow Copy: true
Allow Analysis: true
Allow Compute TiePoints: false
Supports Statistics: true
Supports Advanced Queries: true
Use StandardizedQueries: true
Raster Type Infos:
Name: Raster Dataset
Description: Supports all ArcGIS Raster Datasets
Help:
Has Raster Attribute Table: false
Edit Fields Info: null
Ownership Based AccessControl For Rasters: null
Child Resources:
Info
Histograms
Statistics
Key Properties
Legend
Raster Function Infos
Supported Operations:
Export Image
Query
Identify
Compute Histograms
Compute Statistics Histograms
Get Samples
Compute Class Statistics
Query GPS Info
Find Images
Image to Map
Map to Image
Measure from Image
Image to Map Multiray
Query Boundary
Compute Pixel Location
Compute Angles
Validate
Project