An interpolated gridsurface (20m cells) mapping the elevation (m NZVD2016) to median groundwater level equilibrated with a 60cm sea level rise. To create this 'empirical geomertical model' of the water table a simple 60cm offset was added to the GWLmedian (GWLp50).<\/span><\/p><\/div><\/div>",
"serviceItemId": "c4086061ac834a528df5c4cdb20d3443",
"name": "GroundWater_SLR60cm_GWL",
"description": "An interpolated gridsurface (20m cells) mapping the elevation (m NZVD2016) to median groundwater level equilibrated with a 60cm sea level rise. To create this 'empirical geomertical model' of the water table a simple 60cm offset was added to the GWLmedian (GWLp50).<\/span><\/p><\/div><\/div>",
"extent": {
"xmin": 1860635.7687,
"ymin": 5805844.8023,
"xmax": 1906615.7687,
"ymax": 5832804.8023,
"spatialReference": {
"wkid": 2193,
"latestWkid": 2193,
"vcsWkid": 7839,
"latestVcsWkid": 7839
}
},
"initialExtent": {
"xmin": 1860635.7687,
"ymin": 5805844.8023,
"xmax": 1906615.7687,
"ymax": 5832804.8023,
"spatialReference": {
"wkid": 2193,
"latestWkid": 2193,
"vcsWkid": 7839,
"latestVcsWkid": 7839
}
},
"fullExtent": {
"xmin": 1860635.7687,
"ymin": 5805844.8023,
"xmax": 1906615.7687,
"ymax": 5832804.8023,
"spatialReference": {
"wkid": 2193,
"latestWkid": 2193,
"vcsWkid": 7839,
"latestVcsWkid": 7839
}
},
"sortableFields": "",
"heightModelInfo": {
"heightModel": "gravity_related_height",
"vertCRS": "NZVD2016_height",
"heightUnit": "meter"
},
"bandCount": 1,
"pixelType": "F32",
"minValues": [
0.09685945510864258
],
"maxValues": [
8.508381843566895
],
"meanValues": [
2.072926999927772
],
"stdvValues": [
1.4070267354954893
],
"serviceProperties": "Center<\/MosaicMethod>First<\/MosaicOperator>true<\/SortAscending><\/LockImageID><\/TileOrderField>0<\/TileOrderBase>0.000000<\/AvgImageSpacingX>0.000000<\/AvgImageSpacingY>0.0<\/ViewPointX>0.0<\/ViewPointY>0.0<\/ViewPointDefShiftX>0.0<\/ViewPointDefShiftY>LERC<\/CompressionMethod>75<\/CompressionQuality>0.010000<\/CompressionTolerance>Bilinear<\/SamplingMethod><\/ImageServiceProperties><\/ImageServer>",
"allowedFields": "",
"hasMultidimensions": false,
"pixelSizeX": 20,
"pixelSizeY": 20,
"meanPixelSize": 20,
"datasetFormat": "SDR",
"uncompressedSize": 12396208,
"blockWidth": 128,
"blockHeight": 128,
"compressionType": "NONE",
"bandNames": [
"Band_1"
],
"allowCopy": true,
"allowAnalysis": true,
"itemAccess": false,
"inspectionCapabilities": "",
"minPixelSize": 0,
"maxPixelSize": 0,
"copyrightText": "Simon Cox/GNS Science 2022-2023",
"serviceDataType": "esriImageServiceDataTypeGeneric",
"serviceSourceType": "esriImageServiceSourceTypeDataset",
"objectIdField": "",
"fields": [],
"capabilities": "Mensuration,Image,Metadata",
"defaultMosaicMethod": "Center",
"allowedMosaicMethods": "",
"sortField": "",
"sortValue": null,
"sortAscending": true,
"mosaicOperator": "First",
"defaultCompressionQuality": 10000,
"defaultResamplingMethod": "Bilinear",
"maxImageHeight": 4100,
"maxImageWidth": 15000,
"allowRasterFunction": true,
"rasterFunctionInfos": [
{
"name": "None",
"description": "",
"help": ""
}
],
"rasterTypeInfos": [
{
"name": "Raster Dataset",
"description": "Supports all ArcGIS Raster Datasets",
"help": ""
}
],
"mensurationCapabilities": "Basic",
"hasHistograms": true,
"hasColormap": false,
"hasRasterAttributeTable": false,
"minScale": 0,
"maxScale": 0,
"exportTilesAllowed": false,
"supportsStatistics": false,
"supportsAdvancedQueries": false,
"editFieldsInfo": null,
"ownershipBasedAccessControlForRasters": null,
"allowComputeTiePoints": false,
"useStandardizedQueries": true,
"advancedQueryCapabilities": {
"useStandardizedQueries": true,
"supportsStatistics": false,
"supportsOrderBy": false,
"supportsDistinct": false,
"supportsPagination": false
},
"spatialReference": {
"wkid": 2193,
"latestWkid": 2193,
"vcsWkid": 7839,
"latestVcsWkid": 7839
},
"resampling": false
}