{ "currentVersion": 11.5, "serviceDescription": "

An interpolated gridsurface (20m cells) mapping the depth (m relative to ground) to median groundwater level at 160cm sea level rise. A 160cm offset was added to the GWLmedian (GWLp50) to create SLR160cm_GWL, which was then subtracted from the ground elevation DEM. Values in metres relative to the 2020 LiDAR land surface model. Negative values represent inundation of groundwater.<\/SPAN><\/SPAN><\/P><\/DIV><\/DIV>", "serviceItemId": "0854892eeb0743eeb931252906aa6f8a", "name": "GroundWater_SLR160cm_DTW", "description": "

An interpolated gridsurface (20m cells) mapping the depth (m relative to ground) to median groundwater level at 160cm sea level rise. A 160cm offset was added to the GWLmedian (GWLp50) to create SLR160cm_GWL, which was then subtracted from the ground elevation DEM. Values in metres relative to the 2020 LiDAR land surface model. Negative values represent inundation of groundwater.<\/SPAN><\/SPAN><\/P><\/DIV><\/DIV>", "extent": { "xmin": 1870215.7687, "ymin": 5814844.8023, "xmax": 1901635.7687, "ymax": 5832804.8023, "spatialReference": { "wkid": 2193, "latestWkid": 2193, "vcsWkid": 7839, "latestVcsWkid": 7839 } }, "initialExtent": { "xmin": 1870215.7687, "ymin": 5814844.8023, "xmax": 1901635.7687, "ymax": 5832804.8023, "spatialReference": { "wkid": 2193, "latestWkid": 2193, "vcsWkid": 7839, "latestVcsWkid": 7839 } }, "fullExtent": { "xmin": 1870215.7687, "ymin": 5814844.8023, "xmax": 1901635.7687, "ymax": 5832804.8023, "spatialReference": { "wkid": 2193, "latestWkid": 2193, "vcsWkid": 7839, "latestVcsWkid": 7839 } }, "sortableFields": "", "heightModelInfo": { "heightModel": "gravity_related_height", "vertCRS": "NZVD2016_height", "heightUnit": "meter" }, "bandCount": 1, "pixelType": "F32", "minValues": [ -3.864516496658325 ], "maxValues": [ 227.3572235107422 ], "meanValues": [ 15.269786104807078 ], "stdvValues": [ 22.32899381104668 ], "serviceProperties": "Center<\/MosaicMethod>First<\/MosaicOperator>true<\/SortAscending><\/LockImageID><\/TileOrderField>0<\/TileOrderBase>0.000000<\/AvgImageSpacingX>0.000000<\/AvgImageSpacingY>0.0<\/ViewPointX>0.0<\/ViewPointY>0.0<\/ViewPointDefShiftX>0.0<\/ViewPointDefShiftY>LERC<\/CompressionMethod>75<\/CompressionQuality>0.010000<\/CompressionTolerance>Bilinear<\/SamplingMethod><\/ImageServiceProperties><\/ImageServer>", "allowedFields": "", "hasMultidimensions": false, "pixelSizeX": 20, "pixelSizeY": 20, "meanPixelSize": 20, "datasetFormat": "SDR", "uncompressedSize": 5643032, "blockWidth": 128, "blockHeight": 128, "compressionType": "NONE", "bandNames": [ "Band_1" ], "allowCopy": true, "allowAnalysis": true, "itemAccess": false, "inspectionCapabilities": "", "minPixelSize": 0, "maxPixelSize": 0, "copyrightText": "Simon Cox/GNS Science 2022-2023", "serviceDataType": "esriImageServiceDataTypeGeneric", "serviceSourceType": "esriImageServiceSourceTypeDataset", "objectIdField": "", "fields": [], "capabilities": "Image,Metadata,Mensuration", "defaultMosaicMethod": "Center", "allowedMosaicMethods": "", "sortField": "", "sortValue": null, "sortAscending": true, "mosaicOperator": "First", "defaultCompressionQuality": 10000, "defaultResamplingMethod": "Bilinear", "maxImageHeight": 4100, "maxImageWidth": 15000, "allowRasterFunction": true, "rasterFunctionInfos": [ { "name": "None", "description": "", "help": "" } ], "rasterTypeInfos": [ { "name": "Raster Dataset", "description": "Supports all ArcGIS Raster Datasets", "help": "" } ], "mensurationCapabilities": "Basic", "hasHistograms": true, "hasColormap": false, "hasRasterAttributeTable": false, "minScale": 0, "maxScale": 0, "exportTilesAllowed": false, "supportsStatistics": false, "supportsAdvancedQueries": false, "editFieldsInfo": null, "ownershipBasedAccessControlForRasters": null, "allowComputeTiePoints": false, "useStandardizedQueries": true, "advancedQueryCapabilities": { "useStandardizedQueries": true, "supportsStatistics": false, "supportsOrderBy": false, "supportsDistinct": false, "supportsPagination": false }, "spatialReference": { "wkid": 2193, "latestWkid": 2193, "vcsWkid": 7839, "latestVcsWkid": 7839 } }