<?xml version="1.0" encoding="UTF-8" standalone="no"?>
<metadata xml:lang="en">
<Esri>
<CreaDate>20221105</CreaDate>
<CreaTime>19431500</CreaTime>
<ArcGISFormat>1.0</ArcGISFormat>
<ArcGISstyle>ISO 19139 Metadata Implementation Specification</ArcGISstyle>
<SyncOnce>FALSE</SyncOnce>
<DataProperties>
<itemProps>
<itemName Sync="TRUE">GroundWaterGNS2022_SLR100cm_GWL_NZVD16</itemName>
<imsContentType Sync="TRUE">002</imsContentType>
<nativeExtBox>
<westBL Sync="TRUE">1860635.768700</westBL>
<eastBL Sync="TRUE">1906615.768700</eastBL>
<southBL Sync="TRUE">5805844.802300</southBL>
<northBL Sync="TRUE">5832804.802300</northBL>
<exTypeCode Sync="TRUE">1</exTypeCode>
</nativeExtBox>
<itemLocation>
<linkage Sync="TRUE">file://\\tccfile1\archive2\ServiceDeskRequests\160000-170000\167190\DataForSDE\DataSDE_167190.gdb</linkage>
<protocol Sync="TRUE">Local Area Network</protocol>
</itemLocation>
</itemProps>
<coordRef>
<type Sync="TRUE">Projected</type>
<geogcsn Sync="TRUE">GCS_NZGD_2000</geogcsn>
<csUnits Sync="TRUE">Linear Unit: Meter (1.000000)</csUnits>
<projcsn Sync="TRUE">NZGD_2000_New_Zealand_Transverse_Mercator</projcsn>
<peXml Sync="TRUE">&lt;ProjectedCoordinateSystem xsi:type='typens:ProjectedCoordinateSystem' xmlns:xsi='http://www.w3.org/2001/XMLSchema-instance' xmlns:xs='http://www.w3.org/2001/XMLSchema' xmlns:typens='http://www.esri.com/schemas/ArcGIS/10.8'&gt;&lt;WKT&gt;PROJCS[&amp;quot;NZGD_2000_New_Zealand_Transverse_Mercator&amp;quot;,GEOGCS[&amp;quot;GCS_NZGD_2000&amp;quot;,DATUM[&amp;quot;D_NZGD_2000&amp;quot;,SPHEROID[&amp;quot;GRS_1980&amp;quot;,6378137.0,298.257222101]],PRIMEM[&amp;quot;Greenwich&amp;quot;,0.0],UNIT[&amp;quot;Degree&amp;quot;,0.0174532925199433]],PROJECTION[&amp;quot;Transverse_Mercator&amp;quot;],PARAMETER[&amp;quot;False_Easting&amp;quot;,1600000.0],PARAMETER[&amp;quot;False_Northing&amp;quot;,10000000.0],PARAMETER[&amp;quot;Central_Meridian&amp;quot;,173.0],PARAMETER[&amp;quot;Scale_Factor&amp;quot;,0.9996],PARAMETER[&amp;quot;Latitude_Of_Origin&amp;quot;,0.0],UNIT[&amp;quot;Meter&amp;quot;,1.0],AUTHORITY[&amp;quot;EPSG&amp;quot;,2193]],VERTCS[&amp;quot;NZVD2016_height&amp;quot;,VDATUM[&amp;quot;New_Zealand_Vertical_Datum_2016&amp;quot;],PARAMETER[&amp;quot;Vertical_Shift&amp;quot;,0.0],PARAMETER[&amp;quot;Direction&amp;quot;,1.0],UNIT[&amp;quot;Meter&amp;quot;,1.0],AUTHORITY[&amp;quot;EPSG&amp;quot;,7839]]&lt;/WKT&gt;&lt;XOrigin&gt;-4020900&lt;/XOrigin&gt;&lt;YOrigin&gt;1900&lt;/YOrigin&gt;&lt;XYScale&gt;450445547.3910538&lt;/XYScale&gt;&lt;ZOrigin&gt;-100000&lt;/ZOrigin&gt;&lt;ZScale&gt;10000&lt;/ZScale&gt;&lt;MOrigin&gt;-100000&lt;/MOrigin&gt;&lt;MScale&gt;10000&lt;/MScale&gt;&lt;XYTolerance&gt;0.001&lt;/XYTolerance&gt;&lt;ZTolerance&gt;0.001&lt;/ZTolerance&gt;&lt;MTolerance&gt;0.001&lt;/MTolerance&gt;&lt;HighPrecision&gt;true&lt;/HighPrecision&gt;&lt;WKID&gt;2193&lt;/WKID&gt;&lt;LatestWKID&gt;2193&lt;/LatestWKID&gt;&lt;VCSWKID&gt;7839&lt;/VCSWKID&gt;&lt;LatestVCSWKID&gt;7839&lt;/LatestVCSWKID&gt;&lt;/ProjectedCoordinateSystem&gt;</peXml>
</coordRef>
<lineage>
<Process Date="20230406" Name="Define Projection" Time="142555" ToolSource="c:\program files\arcgis\pro\Resources\ArcToolbox\toolboxes\Data Management Tools.tbx\DefineProjection">DefineProjection Q:\ServiceDeskRequests\160000-170000\167190\GNS\TCCshallowGW_GNS_SR2023_DRAFT.gdb\SLR100cm_GWL PROJCS["NZGD_2000_New_Zealand_Transverse_Mercator",GEOGCS["GCS_NZGD_2000",DATUM["D_NZGD_2000",SPHEROID["GRS_1980",6378137.0,298.257222101]],PRIMEM["Greenwich",0.0],UNIT["Degree",0.0174532925199433]],PROJECTION["Transverse_Mercator"],PARAMETER["False_Easting",1600000.0],PARAMETER["False_Northing",10000000.0],PARAMETER["Central_Meridian",173.0],PARAMETER["Scale_Factor",0.9996],PARAMETER["Latitude_Of_Origin",0.0],UNIT["Meter",1.0]],VERTCS["NZVD2016_height",VDATUM["New_Zealand_Vertical_Datum_2016"],PARAMETER["Vertical_Shift",0.0],PARAMETER["Direction",1.0],UNIT["Meter",1.0]]</Process>
</lineage>
</DataProperties>
<SyncDate>20230418</SyncDate>
<SyncTime>11065400</SyncTime>
<ModDate>20230418</ModDate>
<ModTime>11065400</ModTime>
</Esri>
<mdFileID>2652064A-DFE3-4AE9-9C83-0CF9FEB3FF66</mdFileID>
<mdLang>
<languageCode value="eng"/>
<countryCode Sync="TRUE" value="NZL"/>
</mdLang>
<mdChar>
<CharSetCd value="004"/>
</mdChar>
<mdParentID>E474D67E-2E18-4E3C-AE2E-37EB34DE67BD</mdParentID>
<mdHrLv>
<ScopeCd value="005"/>
</mdHrLv>
<mdContact>
<rpIndName/>
<rpOrgName>GNS Science</rpOrgName>
<rpCntInfo>
<cntPhone>
<voiceNum>+6445701444</voiceNum>
</cntPhone>
<cntAddress>
<delPoint>PO Box 30368</delPoint>
<city>Lower Hutt</city>
<postCode>5040</postCode>
<country>NEW ZEALAND</country>
<eMailAdd/>
</cntAddress>
</rpCntInfo>
<role>
<RoleCd value="007"/>
</role>
</mdContact>
<mdDateSt Sync="TRUE">20230418</mdDateSt>
<mdStanName>ArcGIS Metadata</mdStanName>
<mdStanVer>1.0</mdStanVer>
<dataIdInfo>
<idCitation>
<resTitle Sync="TRUE">GroundWater_SLR100cm_GWL</resTitle>
<presForm>
<PresFormCd value="005"/>
</presForm>
<otherCitDet/>
</idCitation>
<idAbs>An interpolated gridsurface (20m cells) mapping the elevation (m NZVD2016) to median groundwater level equilibrated with a 100cm sea level rise. To create this 'empirical geometrical model' of the water table a simple 100cm offset was added to the GWLmedian (GWLp50).</idAbs>
<idPurp>Elevation (in m NZVD2016) of a modelled, MEDIAN level of groundwater equilibrated with a 100 cm SEA LEVEL RISE.</idPurp>
<idCredit>Simon Cox/GNS Science 2022-2023</idCredit>
<idStatus>
<ProgCd value="001"/>
</idStatus>
<idPoC>
<rpIndName/>
<rpOrgName>GNS Science</rpOrgName>
<rpCntInfo>
<cntPhone>
<voiceNum>+6445701444</voiceNum>
</cntPhone>
<cntAddress>
<delPoint>PO Box 30368</delPoint>
<city>Lower Hutt</city>
<postCode>5040</postCode>
<country>NEW ZEALAND</country>
<eMailAdd/>
</cntAddress>
</rpCntInfo>
<role>
<RoleCd value="007"/>
</role>
</idPoC>
<resMaint>
<maintFreq>
<MaintFreqCd value="009"/>
</maintFreq>
</resMaint>
<placeKeys>
<keyword/>
</placeKeys>
<themeKeys>
<keyword>modelled interpolation</keyword>
<keyword>Sea Level Rise</keyword>
<keyword>Groundwater</keyword>
</themeKeys>
<searchKeys>
<keyword>modelled interpolation</keyword>
<keyword>Sea Level Rise</keyword>
<keyword>Groundwater</keyword>
</searchKeys>
<resConst>
<Consts>
<useLimit/>
</Consts>
</resConst>
<dataScale>
<equScale>
<rfDenom>0</rfDenom>
</equScale>
</dataScale>
<dataLang>
<languageCode value="eng"/>
<countryCode Sync="TRUE" value="NZL"/>
</dataLang>
<tpCat>
<TopicCatCd value="008"/>
</tpCat>
<envirDesc Sync="TRUE">Microsoft Windows 7 Version 6.1 (Build 7601) Service Pack 1; Esri ArcGIS 10.9.1.28388</envirDesc>
<spatRpType>
<SpatRepTypCd Sync="TRUE" value="002"/>
</spatRpType>
<dataExt>
<geoEle>
<GeoBndBox esriExtentType="search">
<exTypeCode Sync="TRUE">1</exTypeCode>
<westBL Sync="TRUE">175.952896</westBL>
<eastBL Sync="TRUE">176.484376</eastBL>
<northBL Sync="TRUE">-37.600770</northBL>
<southBL Sync="TRUE">-37.857620</southBL>
</GeoBndBox>
</geoEle>
</dataExt>
</dataIdInfo>
<distInfo>
<distFormat>
<formatName Sync="TRUE">File Geodatabase Raster Dataset</formatName>
</distFormat>
</distInfo>
<mdHrLvName Sync="TRUE">dataset</mdHrLvName>
<refSysInfo>
<RefSystem>
<refSysID>
<identCode Sync="TRUE" code="2193"/>
<idCodeSpace Sync="TRUE">EPSG</idCodeSpace>
<idVersion Sync="TRUE">6.15(9.0.0)</idVersion>
</refSysID>
</RefSystem>
</refSysInfo>
<spdoinfo>
<rastinfo>
<rasttype Sync="TRUE">Pixel</rasttype>
<rowcount Sync="TRUE">1348</rowcount>
<colcount Sync="TRUE">2299</colcount>
<rastxsz Sync="TRUE">20.000000</rastxsz>
<rastysz Sync="TRUE">20.000000</rastysz>
<rastbpp Sync="TRUE">32</rastbpp>
<vrtcount Sync="TRUE">1</vrtcount>
<rastorig Sync="TRUE">Upper Left</rastorig>
<rastcmap Sync="TRUE">FALSE</rastcmap>
<rastcomp Sync="TRUE">NONE</rastcomp>
<rastband Sync="TRUE">1</rastband>
<rastdtyp Sync="TRUE">pixel codes</rastdtyp>
<rastifor Sync="TRUE">FGDBR</rastifor>
<rastplyr Sync="TRUE">FALSE</rastplyr>
</rastinfo>
</spdoinfo>
<spref>
<horizsys>
<planar>
<planci>
<plance Sync="TRUE">row and column</plance>
<coordrep>
<absres Sync="TRUE">20.000000</absres>
<ordres Sync="TRUE">20.000000</ordres>
</coordrep>
</planci>
</planar>
</horizsys>
</spref>
</metadata>
