An interpolated gridsurface (20m cells) mapping the depth (m relative to ground) to median groundwater level at 100cm sea level rise. A 100cm offset was added to the GWLmedian (GWLp50) to create SLR100cm_GWL, which was then subtracted from the ground elevation DEM. Values in metres relative to the 2020 LiDAR land surface model. Negative values represent inundation of groundwater.<\/span><\/span><\/p><\/div>",
"serviceItemId": "1b1e16c5e2904b818872bf525996a6be",
"name": "GroundWater_SLR100cm_DTW",
"description": "An interpolated gridsurface (20m cells) mapping the depth (m relative to ground) to median groundwater level at 100cm sea level rise. A 100cm offset was added to the GWLmedian (GWLp50) to create SLR100cm_GWL, which was then subtracted from the ground elevation DEM. Values in metres relative to the 2020 LiDAR land surface model. Negative values represent inundation of groundwater.<\/span><\/span><\/p><\/div>",
"extent": {
"xmin": 1860635,
"ymin": 5805844,
"xmax": 1906635,
"ymax": 5832824,
"spatialReference": {
"wkid": 2193,
"latestWkid": 2193,
"vcsWkid": 7839,
"latestVcsWkid": 7839
}
},
"initialExtent": {
"xmin": 1860635,
"ymin": 5805844,
"xmax": 1906635,
"ymax": 5832824,
"spatialReference": {
"wkid": 2193,
"latestWkid": 2193,
"vcsWkid": 7839,
"latestVcsWkid": 7839
}
},
"fullExtent": {
"xmin": 1860635,
"ymin": 5805844,
"xmax": 1906635,
"ymax": 5832824,
"spatialReference": {
"wkid": 2193,
"latestWkid": 2193,
"vcsWkid": 7839,
"latestVcsWkid": 7839
}
},
"sortableFields": "",
"heightModelInfo": {
"heightModel": "gravity_related_height",
"vertCRS": "NZVD2016_height",
"heightUnit": "meter"
},
"bandCount": 1,
"pixelType": "F32",
"minValues": [
-3.264516592025757
],
"maxValues": [
227.9572296142578
],
"meanValues": [
15.869786112850045
],
"stdvValues": [
22.328993813738865
],
"serviceProperties": "Center<\/MosaicMethod>First<\/MosaicOperator>true<\/SortAscending><\/LockImageID><\/TileOrderField>0<\/TileOrderBase>0.000000<\/AvgImageSpacingX>0.000000<\/AvgImageSpacingY>0.0<\/ViewPointX>0.0<\/ViewPointY>0.0<\/ViewPointDefShiftX>0.0<\/ViewPointDefShiftY>LERC<\/CompressionMethod>75<\/CompressionQuality>0.010000<\/CompressionTolerance>Bilinear<\/SamplingMethod><\/ImageServiceProperties><\/ImageServer>",
"allowedFields": "",
"hasMultidimensions": false,
"pixelSizeX": 20,
"pixelSizeY": 20,
"meanPixelSize": 20,
"datasetFormat": "SDR",
"uncompressedSize": 12410800,
"blockWidth": 128,
"blockHeight": 128,
"compressionType": "NONE",
"bandNames": [
"Band_1"
],
"allowCopy": true,
"allowAnalysis": true,
"itemAccess": false,
"inspectionCapabilities": "",
"minPixelSize": 0,
"maxPixelSize": 0,
"copyrightText": "Simon Cox/GNS Science 2022-2023",
"serviceDataType": "esriImageServiceDataTypeGeneric",
"serviceSourceType": "esriImageServiceSourceTypeDataset",
"objectIdField": "",
"fields": [],
"capabilities": "Mensuration,Image,Metadata",
"defaultMosaicMethod": "Center",
"allowedMosaicMethods": "",
"sortField": "",
"sortValue": null,
"sortAscending": true,
"mosaicOperator": "First",
"defaultCompressionQuality": 10000,
"defaultResamplingMethod": "Bilinear",
"maxImageHeight": 4100,
"maxImageWidth": 15000,
"allowRasterFunction": true,
"rasterFunctionInfos": [
{
"name": "None",
"description": "",
"help": ""
}
],
"rasterTypeInfos": [
{
"name": "Raster Dataset",
"description": "Supports all ArcGIS Raster Datasets",
"help": ""
}
],
"mensurationCapabilities": "Basic",
"hasHistograms": true,
"hasColormap": false,
"hasRasterAttributeTable": false,
"minScale": 0,
"maxScale": 0,
"exportTilesAllowed": false,
"supportsStatistics": false,
"supportsAdvancedQueries": false,
"editFieldsInfo": null,
"ownershipBasedAccessControlForRasters": null,
"allowComputeTiePoints": false,
"useStandardizedQueries": true,
"advancedQueryCapabilities": {
"useStandardizedQueries": true,
"supportsStatistics": false,
"supportsOrderBy": false,
"supportsDistinct": false,
"supportsPagination": false
},
"spatialReference": {
"wkid": 2193,
"latestWkid": 2193,
"vcsWkid": 7839,
"latestVcsWkid": 7839
},
"resampling": false
}