Drone imagery to assist with asset capture at the Cambridge Road closed landfill site. Flown at 58m with imagery supplied at 1.62cm pixel resolution (0.016m GSD) in terms of New Zealand Transverse Mercator (NZTM) map projection.<\/SPAN><\/P><\/DIV><\/DIV><\/DIV>",
"serviceItemId": "c0eccb6ab7ac439090bb2c52b3228b9b",
"name": "Drone20241106CambridgePark",
"description": "",
"extent": {
"xmin": 1875240.3490181183,
"ymin": 5821557.972382642,
"xmax": 1876113.6474773183,
"ymax": 5822208.385625143,
"spatialReference": {
"wkid": 2193,
"latestWkid": 2193,
"vcsWkid": 7839,
"latestVcsWkid": 7839
}
},
"initialExtent": {
"xmin": 1875240.3490181183,
"ymin": 5821557.972382642,
"xmax": 1876113.6474773183,
"ymax": 5822208.385625143,
"spatialReference": {
"wkid": 2193,
"latestWkid": 2193,
"vcsWkid": 7839,
"latestVcsWkid": 7839
}
},
"fullExtent": {
"xmin": 1875240.3490181183,
"ymin": 5821557.972382642,
"xmax": 1876113.6474773183,
"ymax": 5822208.385625143,
"spatialReference": {
"wkid": 2193,
"latestWkid": 2193,
"vcsWkid": 7839,
"latestVcsWkid": 7839
}
},
"sortableFields": "MinPS,MaxPS,LowPS,HighPS,CenterX,CenterY,ZOrder,Shape.STArea(),Shape.STLength(),FlightDate",
"heightModelInfo": {
"heightModel": "gravity_related_height",
"vertCRS": "NZVD2016_height",
"heightUnit": "meter"
},
"bandCount": 3,
"pixelType": "U8",
"minValues": [
0,
0,
0
],
"maxValues": [
255,
255,
255
],
"meanValues": [
186.20276191768033,
191.53599351346412,
163.31296321416164
],
"stdvValues": [
74.87599497132462,
68.04018295298323,
95.57078480671468
],
"serviceProperties": "NorthWest<\/MosaicMethod>First<\/MosaicOperator>true<\/SortAscending><\/LockImageID>Name<\/TileOrderField>0<\/TileOrderBase>600.000000<\/AvgImageSpacingX>300.000000<\/AvgImageSpacingY>0.0<\/ViewPointX>0.0<\/ViewPointY>0.0<\/ViewPointDefShiftX>0.0<\/ViewPointDefShiftY>None<\/CompressionMethod>75<\/CompressionQuality>0.010000<\/CompressionTolerance>Bilinear<\/SamplingMethod><\/ImageServiceProperties><\/ImageServer>",
"allowedFields": "Name,MinPS,MaxPS,LowPS,HighPS,Tag,GroupName,ProductName,CenterX,CenterY,ZOrder,Shape.STArea(),Shape.STLength(),JobID,FlightDate,Notes",
"hasMultidimensions": false,
"pixelSizeX": 0.016229899999999176,
"pixelSizeY": 0.01622990000000687,
"meanPixelSize": 0.016229900000003024,
"datasetFormat": "AMD",
"uncompressedSize": 6469066800,
"blockWidth": 2048,
"blockHeight": 256,
"compressionType": "None",
"bandNames": [
"Red",
"Green",
"Blue"
],
"allowCopy": true,
"allowAnalysis": true,
"itemAccess": false,
"inspectionCapabilities": "",
"minPixelSize": 0,
"maxPixelSize": 0,
"copyrightText": "Nathan Sykes (TCC GIS), Celia Walker (TCC Sustainability & Waste)",
"serviceDataType": "esriImageServiceDataTypeProcessed",
"serviceSourceType": "esriImageServiceSourceTypeMosaicDataset",
"objectIdField": "OBJECTID",
"fields": [
{
"name": "OBJECTID",
"type": "esriFieldTypeOID",
"alias": "OBJECTID",
"domain": null
},
{
"name": "Name",
"type": "esriFieldTypeString",
"alias": "Name",
"domain": null,
"length": 200
},
{
"name": "MinPS",
"type": "esriFieldTypeDouble",
"alias": "MinPS",
"domain": null
},
{
"name": "MaxPS",
"type": "esriFieldTypeDouble",
"alias": "MaxPS",
"domain": null
},
{
"name": "LowPS",
"type": "esriFieldTypeDouble",
"alias": "LowPS",
"domain": null
},
{
"name": "HighPS",
"type": "esriFieldTypeDouble",
"alias": "HighPS",
"domain": null
},
{
"name": "Category",
"type": "esriFieldTypeInteger",
"alias": "Category",
"domain": {
"type": "codedValue",
"name": "MosaicCatalogItemCategoryDomain",
"description": "Catalog item categories.",
"codedValues": [
{
"name": "Unknown",
"code": 0
},
{
"name": "Primary",
"code": 1
},
{
"name": "Overview",
"code": 2
},
{
"name": "Unprocessed Overview",
"code": 3
},
{
"name": "Partial Overview",
"code": 4
},
{
"name": "Inactive",
"code": 5
},
{
"name": "Uploaded",
"code": 253
},
{
"name": "Incomplete",
"code": 254
},
{
"name": "Custom",
"code": 255
}
],
"mergePolicy": "esriMPTDefaultValue",
"splitPolicy": "esriSPTDefaultValue"
}
},
{
"name": "Tag",
"type": "esriFieldTypeString",
"alias": "Tag",
"domain": null,
"length": 100
},
{
"name": "GroupName",
"type": "esriFieldTypeString",
"alias": "GroupName",
"domain": null,
"length": 100
},
{
"name": "ProductName",
"type": "esriFieldTypeString",
"alias": "ProductName",
"domain": null,
"length": 100
},
{
"name": "CenterX",
"type": "esriFieldTypeDouble",
"alias": "CenterX",
"domain": null
},
{
"name": "CenterY",
"type": "esriFieldTypeDouble",
"alias": "CenterY",
"domain": null
},
{
"name": "ZOrder",
"type": "esriFieldTypeInteger",
"alias": "ZOrder",
"domain": null
},
{
"name": "JobID",
"type": "esriFieldTypeString",
"alias": "JobID",
"domain": null,
"length": 50
},
{
"name": "FlightDate",
"type": "esriFieldTypeDate",
"alias": "FlightDate",
"domain": null,
"length": 8
},
{
"name": "Notes",
"type": "esriFieldTypeString",
"alias": "Notes",
"domain": null,
"length": 100
},
{
"name": "Shape",
"type": "esriFieldTypeGeometry",
"alias": "Shape",
"domain": null
},
{
"name": "Shape.STArea()",
"type": "esriFieldTypeDouble",
"alias": "Shape.STArea()",
"domain": null
},
{
"name": "Shape.STLength()",
"type": "esriFieldTypeDouble",
"alias": "Shape.STLength()",
"domain": null
}
],
"capabilities": "Image,Metadata,Catalog",
"defaultMosaicMethod": "Northwest",
"allowedMosaicMethods": "NorthWest,Center,LockRaster,ByAttribute,Nadir,Viewpoint,Seamline,None",
"sortField": "",
"sortValue": null,
"sortAscending": true,
"mosaicOperator": "First",
"maxDownloadSizeLimit": 2048,
"defaultCompressionQuality": 75,
"defaultResamplingMethod": "Bilinear",
"maxImageHeight": 4100,
"maxImageWidth": 15000,
"maxRecordCount": 1000,
"maxDownloadImageCount": 20,
"maxMosaicImageCount": 20,
"allowRasterFunction": true,
"rasterFunctionInfos": [
{
"name": "None",
"description": "",
"help": ""
}
],
"rasterTypeInfos": [
{
"name": "Raster Dataset",
"description": "Supports all ArcGIS Raster Datasets",
"help": ""
}
],
"mensurationCapabilities": "None",
"hasHistograms": true,
"hasColormap": false,
"hasRasterAttributeTable": false,
"minScale": 0,
"maxScale": 0,
"exportTilesAllowed": false,
"supportsStatistics": true,
"supportsAdvancedQueries": true,
"editFieldsInfo": null,
"ownershipBasedAccessControlForRasters": null,
"allowComputeTiePoints": false,
"useStandardizedQueries": true,
"advancedQueryCapabilities": {
"useStandardizedQueries": true,
"supportsStatistics": true,
"supportsOrderBy": true,
"supportsDistinct": true,
"supportsPagination": true
},
"spatialReference": {
"wkid": 2193,
"latestWkid": 2193,
"vcsWkid": 7839,
"latestVcsWkid": 7839
}
}