Drone imagery to capture Omanawa Falls including progress of track and viewing platform. Flown at 120m with imagery supplied at 3.83cm pixel resolution (0.038m GSD) in terms of New Zealand Transverse Mercator (NZTM) map projection.<\/span><\/p><\/div><\/div><\/div>",
"serviceItemId": "15968d2a6f7f42beb41b3281cb5bed2f",
"name": "Drone20230615OmanawaFalls",
"description": "Drone imagery to capture Omanawa Falls including progress of track and viewing platform. Flown at 120m with imagery supplied at 3.83cm pixel resolution (0.038m GSD) in terms of New Zealand Transverse Mercator (NZTM) map projection.<\/span><\/p><\/div><\/div><\/div>",
"extent": {
"xmin": 1871100.0985037182,
"ymin": 5806319.458068956,
"xmax": 1872208.8411359182,
"ymax": 5807287.187015756,
"spatialReference": {
"wkid": 2193,
"latestWkid": 2193,
"vcsWkid": 7839,
"latestVcsWkid": 7839
}
},
"initialExtent": {
"xmin": 1871100.0985037182,
"ymin": 5806319.458068956,
"xmax": 1872208.8411359182,
"ymax": 5807287.187015756,
"spatialReference": {
"wkid": 2193,
"latestWkid": 2193,
"vcsWkid": 7839,
"latestVcsWkid": 7839
}
},
"fullExtent": {
"xmin": 1871100.0985037182,
"ymin": 5806319.458068956,
"xmax": 1872208.8411359182,
"ymax": 5807287.187015756,
"spatialReference": {
"wkid": 2193,
"latestWkid": 2193,
"vcsWkid": 7839,
"latestVcsWkid": 7839
}
},
"sortableFields": "MinPS,MaxPS,LowPS,HighPS,CenterX,CenterY,ZOrder,Shape.STArea(),Shape.STLength(),FlightDate",
"heightModelInfo": {
"heightModel": "gravity_related_height",
"vertCRS": "NZVD2016_height",
"heightUnit": "meter"
},
"bandCount": 3,
"pixelType": "U8",
"minValues": [
0,
0,
0
],
"maxValues": [
255,
255,
255
],
"meanValues": [
184.78878607211888,
187.70805800521762,
172.3702966505147
],
"stdvValues": [
91.13895746936083,
86.40228719844089,
95.2363859986352
],
"serviceProperties": "NorthWest<\/MosaicMethod>First<\/MosaicOperator>true<\/SortAscending><\/LockImageID>Name<\/TileOrderField>0<\/TileOrderBase>600.000000<\/AvgImageSpacingX>300.000000<\/AvgImageSpacingY>0.0<\/ViewPointX>0.0<\/ViewPointY>0.0<\/ViewPointDefShiftX>0.0<\/ViewPointDefShiftY>None<\/CompressionMethod>75<\/CompressionQuality>0.010000<\/CompressionTolerance>Bilinear<\/SamplingMethod><\/ImageServiceProperties><\/ImageServer>",
"allowedFields": "Name,MinPS,MaxPS,LowPS,HighPS,Tag,GroupName,ProductName,CenterX,CenterY,ZOrder,Shape.STArea(),Shape.STLength(),JobID,FlightDate,Notes",
"hasMultidimensions": false,
"pixelSizeX": 0.03835020000000035,
"pixelSizeY": 0.03835020000001362,
"meanPixelSize": 0.03835020000000698,
"datasetFormat": "AMD",
"uncompressedSize": 2188620522,
"blockWidth": 2048,
"blockHeight": 256,
"compressionType": "None",
"bandNames": [
"Red",
"Green",
"Blue"
],
"allowCopy": true,
"allowAnalysis": true,
"itemAccess": false,
"inspectionCapabilities": "",
"minPixelSize": 0,
"maxPixelSize": 0,
"copyrightText": "Nathan Sykes (TCC GIS), Jo Sanger (TCC Asset Information)",
"serviceDataType": "esriImageServiceDataTypeProcessed",
"serviceSourceType": "esriImageServiceSourceTypeMosaicDataset",
"objectIdField": "OBJECTID",
"fields": [
{
"name": "OBJECTID",
"type": "esriFieldTypeOID",
"alias": "OBJECTID",
"domain": null
},
{
"name": "Name",
"type": "esriFieldTypeString",
"alias": "Name",
"domain": null,
"length": 200
},
{
"name": "MinPS",
"type": "esriFieldTypeDouble",
"alias": "MinPS",
"domain": null
},
{
"name": "MaxPS",
"type": "esriFieldTypeDouble",
"alias": "MaxPS",
"domain": null
},
{
"name": "LowPS",
"type": "esriFieldTypeDouble",
"alias": "LowPS",
"domain": null
},
{
"name": "HighPS",
"type": "esriFieldTypeDouble",
"alias": "HighPS",
"domain": null
},
{
"name": "Category",
"type": "esriFieldTypeInteger",
"alias": "Category",
"domain": {
"type": "codedValue",
"name": "MosaicCatalogItemCategoryDomain",
"description": "Catalog item categories.",
"codedValues": [
{
"name": "Unknown",
"code": 0
},
{
"name": "Primary",
"code": 1
},
{
"name": "Overview",
"code": 2
},
{
"name": "Unprocessed Overview",
"code": 3
},
{
"name": "Partial Overview",
"code": 4
},
{
"name": "Inactive",
"code": 5
},
{
"name": "Uploaded",
"code": 253
},
{
"name": "Incomplete",
"code": 254
},
{
"name": "Custom",
"code": 255
}
],
"mergePolicy": "esriMPTDefaultValue",
"splitPolicy": "esriSPTDefaultValue"
}
},
{
"name": "Tag",
"type": "esriFieldTypeString",
"alias": "Tag",
"domain": null,
"length": 100
},
{
"name": "GroupName",
"type": "esriFieldTypeString",
"alias": "GroupName",
"domain": null,
"length": 100
},
{
"name": "ProductName",
"type": "esriFieldTypeString",
"alias": "ProductName",
"domain": null,
"length": 100
},
{
"name": "CenterX",
"type": "esriFieldTypeDouble",
"alias": "CenterX",
"domain": null
},
{
"name": "CenterY",
"type": "esriFieldTypeDouble",
"alias": "CenterY",
"domain": null
},
{
"name": "ZOrder",
"type": "esriFieldTypeInteger",
"alias": "ZOrder",
"domain": null
},
{
"name": "JobID",
"type": "esriFieldTypeString",
"alias": "JobID",
"domain": null,
"length": 50
},
{
"name": "FlightDate",
"type": "esriFieldTypeDate",
"alias": "FlightDate",
"domain": null,
"length": 8
},
{
"name": "Notes",
"type": "esriFieldTypeString",
"alias": "Notes",
"domain": null,
"length": 100
},
{
"name": "Shape",
"type": "esriFieldTypeGeometry",
"alias": "Shape",
"domain": null
},
{
"name": "Shape.STArea()",
"type": "esriFieldTypeDouble",
"alias": "Shape.STArea()",
"domain": null
},
{
"name": "Shape.STLength()",
"type": "esriFieldTypeDouble",
"alias": "Shape.STLength()",
"domain": null
}
],
"capabilities": "Catalog,Image,Metadata",
"defaultMosaicMethod": "Northwest",
"allowedMosaicMethods": "NorthWest,Center,LockRaster,ByAttribute,Nadir,Viewpoint,Seamline,None",
"sortField": "",
"sortValue": null,
"sortAscending": true,
"mosaicOperator": "First",
"maxDownloadSizeLimit": 2048,
"defaultCompressionQuality": 75,
"defaultResamplingMethod": "Bilinear",
"maxImageHeight": 4100,
"maxImageWidth": 15000,
"maxRecordCount": 1000,
"maxDownloadImageCount": 20,
"maxMosaicImageCount": 20,
"allowRasterFunction": true,
"rasterFunctionInfos": [
{
"name": "None",
"description": "",
"help": ""
}
],
"rasterTypeInfos": [
{
"name": "Raster Dataset",
"description": "Supports all ArcGIS Raster Datasets",
"help": ""
}
],
"mensurationCapabilities": "None",
"hasHistograms": true,
"hasColormap": false,
"hasRasterAttributeTable": false,
"minScale": 0,
"maxScale": 0,
"exportTilesAllowed": false,
"supportsStatistics": true,
"supportsAdvancedQueries": true,
"editFieldsInfo": null,
"ownershipBasedAccessControlForRasters": null,
"allowComputeTiePoints": false,
"useStandardizedQueries": true,
"advancedQueryCapabilities": {
"useStandardizedQueries": true,
"supportsStatistics": true,
"supportsOrderBy": true,
"supportsDistinct": true,
"supportsPagination": true
},
"spatialReference": {
"wkid": 2193,
"latestWkid": 2193,
"vcsWkid": 7839,
"latestVcsWkid": 7839
},
"resampling": false
}