<?xml version="1.0" encoding="UTF-8" standalone="no"?>
<metadata xml:lang="en">
<Esri>
<CreaDate>20260325</CreaDate>
<CreaTime>11391400</CreaTime>
<ArcGISFormat>1.0</ArcGISFormat>
<ArcGISProfile>ISO19139</ArcGISProfile>
<DataProperties>
<itemProps>
<itemName Sync="FALSE">Aerial2025Nov</itemName>
<nativeExtBox>
<westBL Sync="TRUE">1865440.000000</westBL>
<eastBL Sync="TRUE">1904800.000000</eastBL>
<southBL Sync="TRUE">5807760.000000</southBL>
<northBL Sync="TRUE">5831520.000000</northBL>
<exTypeCode Sync="TRUE">1</exTypeCode>
</nativeExtBox>
</itemProps>
<coordRef>
<type Sync="TRUE">Projected</type>
<geogcsn Sync="TRUE">GCS_NZGD_2000</geogcsn>
<csUnits Sync="TRUE">Linear Unit: Meter (1.000000)</csUnits>
<projcsn Sync="TRUE">NZGD_2000_New_Zealand_Transverse_Mercator</projcsn>
<peXml Sync="TRUE">&lt;ProjectedCoordinateSystem xsi:type='typens:ProjectedCoordinateSystem' xmlns:xsi='http://www.w3.org/2001/XMLSchema-instance' xmlns:xs='http://www.w3.org/2001/XMLSchema' xmlns:typens='http://www.esri.com/schemas/ArcGIS/3.5.0'&gt;&lt;WKT&gt;PROJCS[&amp;quot;NZGD_2000_New_Zealand_Transverse_Mercator&amp;quot;,GEOGCS[&amp;quot;GCS_NZGD_2000&amp;quot;,DATUM[&amp;quot;D_NZGD_2000&amp;quot;,SPHEROID[&amp;quot;GRS_1980&amp;quot;,6378137.0,298.257222101]],PRIMEM[&amp;quot;Greenwich&amp;quot;,0.0],UNIT[&amp;quot;Degree&amp;quot;,0.0174532925199433]],PROJECTION[&amp;quot;Transverse_Mercator&amp;quot;],PARAMETER[&amp;quot;False_Easting&amp;quot;,1600000.0],PARAMETER[&amp;quot;False_Northing&amp;quot;,10000000.0],PARAMETER[&amp;quot;Central_Meridian&amp;quot;,173.0],PARAMETER[&amp;quot;Scale_Factor&amp;quot;,0.9996],PARAMETER[&amp;quot;Latitude_Of_Origin&amp;quot;,0.0],UNIT[&amp;quot;Meter&amp;quot;,1.0],AUTHORITY[&amp;quot;EPSG&amp;quot;,2193]],VERTCS[&amp;quot;NZVD2016_height&amp;quot;,VDATUM[&amp;quot;New_Zealand_Vertical_Datum_2016&amp;quot;],PARAMETER[&amp;quot;Vertical_Shift&amp;quot;,0.0],PARAMETER[&amp;quot;Direction&amp;quot;,1.0],UNIT[&amp;quot;Meter&amp;quot;,1.0],AUTHORITY[&amp;quot;EPSG&amp;quot;,7839]]&lt;/WKT&gt;&lt;XOrigin&gt;-4020900&lt;/XOrigin&gt;&lt;YOrigin&gt;1900&lt;/YOrigin&gt;&lt;XYScale&gt;450445547.3910538&lt;/XYScale&gt;&lt;ZOrigin&gt;-100000&lt;/ZOrigin&gt;&lt;ZScale&gt;10000&lt;/ZScale&gt;&lt;MOrigin&gt;-100000&lt;/MOrigin&gt;&lt;MScale&gt;10000&lt;/MScale&gt;&lt;XYTolerance&gt;0.001&lt;/XYTolerance&gt;&lt;ZTolerance&gt;0.001&lt;/ZTolerance&gt;&lt;MTolerance&gt;0.001&lt;/MTolerance&gt;&lt;HighPrecision&gt;true&lt;/HighPrecision&gt;&lt;WKID&gt;2193&lt;/WKID&gt;&lt;LatestWKID&gt;2193&lt;/LatestWKID&gt;&lt;VCSWKID&gt;7839&lt;/VCSWKID&gt;&lt;LatestVCSWKID&gt;7839&lt;/LatestVCSWKID&gt;&lt;/ProjectedCoordinateSystem&gt;</peXml>
</coordRef>
<RasterProperties>
<General>
<PixelDepth Sync="TRUE">8</PixelDepth>
<HasColormap Sync="TRUE">FALSE</HasColormap>
<CompressionType Sync="TRUE">None</CompressionType>
<NumBands Sync="TRUE">4</NumBands>
<Format Sync="TRUE">AMD</Format>
<HasPyramids Sync="TRUE">TRUE</HasPyramids>
<SourceType Sync="TRUE">continuous</SourceType>
<PixelType Sync="TRUE">unsigned integer</PixelType>
<NoDataValue Sync="TRUE">
</NoDataValue>
</General>
<Properties>
<MaxImageHeight Sync="TRUE">4100</MaxImageHeight>
<MaxImageWidth Sync="TRUE">15000</MaxImageWidth>
<MaxRecordCount Sync="TRUE">1000</MaxRecordCount>
<MaxDownloadImageCount Sync="TRUE">20</MaxDownloadImageCount>
<MaxDownloadSizeLimit Sync="TRUE">2048</MaxDownloadSizeLimit>
<MaxMosaicImageCount Sync="TRUE">20</MaxMosaicImageCount>
<DefaultCompressionQuality Sync="TRUE">75</DefaultCompressionQuality>
<DefaultCompressionTolerance Sync="TRUE">0.01</DefaultCompressionTolerance>
<BlendWidth Sync="TRUE">10</BlendWidth>
<ViewpointSpacingX Sync="TRUE">600</ViewpointSpacingX>
<ViewpointSpacingY Sync="TRUE">300</ViewpointSpacingY>
<AllowedItemMetadata Sync="TRUE">Basic</AllowedItemMetadata>
<DefaultResamplingMethod Sync="TRUE">1</DefaultResamplingMethod>
<AllowedMosaicMethods Sync="TRUE">NorthWest,Center,LockRaster,ByAttribute,Nadir,Viewpoint,Seamline,None</AllowedMosaicMethods>
<AllowedCompressions Sync="TRUE">None,JPEG,LZ77,LERC</AllowedCompressions>
<AllowedMensurationCapabilities Sync="TRUE">None</AllowedMensurationCapabilities>
<AvailableMensurationCapabilities Sync="TRUE">None,Basic,Base-Top Height,Top-Top Shadow Height,Base-Top Shadow Height,3D</AvailableMensurationCapabilities>
<ClipToBoundary Sync="TRUE">-1</ClipToBoundary>
<FootprintMayContainNoData Sync="TRUE">-1</FootprintMayContainNoData>
<CellSizeTolerance Sync="TRUE">0.8</CellSizeTolerance>
<MinimumPixelContribution Sync="TRUE">1</MinimumPixelContribution>
<AvailableMosaicMethods Sync="TRUE">NorthWest,Center,LockRaster,ByAttribute,Nadir,Viewpoint,Seamline,None</AvailableMosaicMethods>
<AvailableCompressionMethods Sync="TRUE">None,JPEG,LZ77,LERC</AvailableCompressionMethods>
<AvailableItemMetadataLevels Sync="TRUE">None,Basic,Full</AvailableItemMetadataLevels>
<BandDefinitionKeyword Sync="TRUE">NaturalColorRGBI</BandDefinitionKeyword>
<_docversion_ Sync="TRUE">10</_docversion_>
<AllowedFields Sync="TRUE">Name,MinPS,MaxPS,LowPS,HighPS,Tag,GroupName,ProductName,CenterX,CenterY,ZOrder,Shape.STArea(),Shape.STLength(),Flown</AllowedFields>
<MaxCellSize Sync="TRUE">7290</MaxCellSize>
<LowCellSize Sync="TRUE">0.1</LowCellSize>
<HighCellSize Sync="TRUE">0.2</HighCellSize>
</Properties>
<Functions Sync="TRUE">
<Function Description="Performs on-the-fly mosaic on a raster catalog." Name="Mosaic Function">
</Function>
</Functions>
</RasterProperties>
</DataProperties>
<ModDate>20260325</ModDate>
<ModTime>10580800</ModTime>
<SyncOnce>FALSE</SyncOnce>
<SyncDate>20260325</SyncDate>
<SyncTime>10580800</SyncTime>
</Esri>
<dataIdInfo>
<idAbs>&lt;p&gt;RGBI aerial photography captured over Tauranga City by Woolpert NZ Ltd for the BOPLASS summer 2025/2026 flying season.&lt;/p&gt;&lt;p&gt;&lt;/p&gt;&lt;p&gt;Imagery was acquired over Tauranga and McLarens Falls between the 31st of October and the 8th December 2025.&lt;/p&gt;&lt;p&gt;&lt;/p&gt;&lt;p&gt;Orthophotos delivered with 0.1m pixel resolution and supplied in NZTM2000 map projection. The orthophoto spatial accuracy is +/- 0.167m (95% confidence).&lt;/p&gt;</idAbs>
<idCitation>
<resTitle>Aerial2025Nov</resTitle>
<date>
<pubDate>2026-03-25T11:14:38</pubDate>
<createDate>2025-12-08T12:00:00</createDate>
</date>
<presForm>
<PresFormCd Sync="TRUE" value="005">
</PresFormCd>
</presForm>
</idCitation>
<dataExt>
<geoEle>
<GeoBndBox esriExtentType="search">
<westBL Sync="TRUE">176.007724</westBL>
<eastBL Sync="TRUE">176.462970</eastBL>
<northBL Sync="TRUE">-37.612933</northBL>
<southBL Sync="TRUE">-37.838996</southBL>
<exTypeCode>1</exTypeCode>
</GeoBndBox>
</geoEle>
</dataExt>
<searchKeys>
<keyword>Aerial</keyword>
<keyword>Photography</keyword>
<keyword>RGBI</keyword>
<keyword>Summer</keyword>
<keyword>2025/2026</keyword>
<keyword>2025</keyword>
<keyword>2026</keyword>
</searchKeys>
<idPurp>RGBI aerial photography captured over Tauranga City by Woolpert NZ Ltd for the BOPLASS summer 2025/2026 flying season.</idPurp>
<idCredit>Captured by Woolpert NZ Ltd as part of the BOPLASS imagery capture programme.</idCredit>
<resConst>
<Consts>
<useLimit>&lt;p&gt;The data in this volume is provided by Woolpert NZ Ltd (Woolpert) to BOPLASS LTD under the Terms of Engagement (BOPLASS Aerial Imagery – 2025/2026 (REF: 2025AIL)). BOPLASS LTD to assume beneficial ownership, including the following conditions:&lt;/p&gt;&lt;p&gt;&lt;/p&gt;&lt;p&gt;• BOPLASS and its partners may release the delivered data and reports under Creative Commons Attribution 4.0 International, as per the New Zealand Government Open Access and Licensing (NZGOAL) framework New Zealand.&lt;/p&gt;</useLimit>
</Consts>
</resConst>
<dataLang>
<languageCode Sync="TRUE" value="eng">
</languageCode>
<countryCode Sync="TRUE" value="NZ">
</countryCode>
</dataLang>
<dataChar>
<CharSetCd value="004">
</CharSetCd>
</dataChar>
<spatRpType>
<SpatRepTypCd Sync="TRUE" value="002">
</SpatRepTypCd>
</spatRpType>
<envirDesc Sync="FALSE">Esri ArcGIS 13.5.5.57366</envirDesc>
<resMaint>
<maintFreq>
<MaintFreqCd value="011">
</MaintFreqCd>
</maintFreq>
</resMaint>
<tpCat>
<TopicCatCd value="010">
</TopicCatCd>
</tpCat>
</dataIdInfo>
<mdLang>
<languageCode Sync="TRUE" value="eng">
</languageCode>
<countryCode Sync="TRUE" value="NZL">
</countryCode>
</mdLang>
<mdHrLv>
<ScopeCd value="005">
</ScopeCd>
</mdHrLv>
<mdChar>
<CharSetCd value="004">
</CharSetCd>
</mdChar>
<mdDateSt>20260325</mdDateSt>
<mdContact>
<role>
<RoleCd value="002">
</RoleCd>
</role>
<rpOrgName>Tauranga City Council</rpOrgName>
<rpIndName>Nathan Sykes</rpIndName>
<rpPosName>GIS</rpPosName>
</mdContact>
<mdContact>
<role>
<RoleCd value="001">
</RoleCd>
</role>
<rpOrgName>Woolpert NZ Ltd</rpOrgName>
<rpPosName>Project Manager</rpPosName>
</mdContact>
<refSysInfo>
<RefSystem>
<refSysID>
<identCode Sync="TRUE" code="2193">
</identCode>
<idCodeSpace>EPSG</idCodeSpace>
<idVersion>6.15(9.0.0)</idVersion>
</refSysID>
</RefSystem>
</refSysInfo>
<spatRepInfo>
<Georect>
<numDims>2</numDims>
<axisDimension type="002">
<dimSize>393600</dimSize>
<dimResol>
<value Sync="TRUE" uom="m">0.100000</value>
</dimResol>
</axisDimension>
<axisDimension type="001">
<dimSize>237600</dimSize>
<dimResol>
<value Sync="TRUE" uom="m">0.100000</value>
</dimResol>
</axisDimension>
<cellGeo>
<CellGeoCd Sync="TRUE" value="002">
</CellGeoCd>
</cellGeo>
<chkPtDesc>This data has not been field tested for accuracy. Comparison of the orthophoto with points which were also used in the photo orientation process resulted in a horizontal standard error (RMS) 0.085m, or 0.167m at 95% confidence. Full proof of accuracy achieved requires comparison to independent test points.</chkPtDesc>
<ptInPixel>
<PixOrientCd Sync="TRUE" value="001">
</PixOrientCd>
</ptInPixel>
<centerPt>
<pos>1885120.000000 5819640.000000</pos>
</centerPt>
<cornerPts>
<pos>1865440.000000 5807760.000000</pos>
</cornerPts>
<cornerPts>
<pos>1865440.000000 5831520.000000</pos>
</cornerPts>
<cornerPts>
<pos>1904800.000000 5831520.000000</pos>
</cornerPts>
<cornerPts>
<pos>1904800.000000 5807760.000000</pos>
</cornerPts>
</Georect>
</spatRepInfo>
<contInfo>
<ImgDesc>
<attDesc>The intensity or brightness of that specific band at a given location in the image.</attDesc>
<contentTyp>
<ContentTypCd Sync="TRUE" value="001">
</ContentTypCd>
</contentTyp>
<covDim>
<Band>
<seqID>
<aName>Red</aName>
<attributeType>
<aName>8-bit</aName>
</attributeType>
</seqID>
<minVal>33</minVal>
<maxVal>246</maxVal>
<valUnit>
<UOM type="length">
</UOM>
</valUnit>
<bitsPerVal>8</bitsPerVal>
<dimDescrp Sync="TRUE">Red</dimDescrp>
</Band>
</covDim>
<covDim>
<Band>
<seqID>
<aName>Green</aName>
<attributeType>
<aName>8-bit</aName>
</attributeType>
</seqID>
<minVal>38</minVal>
<maxVal>246</maxVal>
<valUnit>
<UOM type="length">
</UOM>
</valUnit>
<bitsPerVal>8</bitsPerVal>
<dimDescrp Sync="TRUE">Green</dimDescrp>
</Band>
</covDim>
<covDim>
<Band>
<seqID>
<aName>Blue</aName>
<attributeType>
<aName>8-bit</aName>
</attributeType>
</seqID>
<minVal>35</minVal>
<maxVal>248</maxVal>
<valUnit>
<UOM type="length">
</UOM>
</valUnit>
<bitsPerVal>8</bitsPerVal>
<dimDescrp Sync="TRUE">Blue</dimDescrp>
</Band>
</covDim>
<covDim>
<Band>
<seqID>
<aName>Infrared</aName>
<attributeType>
<aName>8-bit</aName>
</attributeType>
</seqID>
<minVal>1</minVal>
<maxVal>242</maxVal>
<valUnit>
<UOM type="length">
</UOM>
</valUnit>
<bitsPerVal>8</bitsPerVal>
<dimDescrp Sync="TRUE">Infrared</dimDescrp>
</Band>
</covDim>
</ImgDesc>
</contInfo>
</metadata>
