RGBI aerial photography captured over Tauranga City by Woolpert NZ in 2025. Imagery was acquired over Tauranga and McLarens Falls between the 12th of February and 2nd March 2025.<\/SPAN><\/P>Orthophotos delivered with 0.1m pixel resolution and supplied in NZTM2000 map projection. The orthophoto spatial accuracy is +/- 0.167m (95% confidence).<\/SPAN><\/P><\/DIV><\/DIV><\/DIV>",
"serviceItemId": "7c4bdd66cf73484b8a01b9412c563f22",
"name": "Aerial2025March",
"description": "RGBI aerial photography captured over Tauranga City by Woolpert NZ in 2025. Imagery was acquired over Tauranga and McLarens Falls between the 12th of February and 2nd March 2025.<\/SPAN><\/P>Orthophotos delivered with 0.1m pixel resolution and supplied in NZTM2000 map projection. The orthophoto spatial accuracy is +/- 0.167m (95% confidence).<\/SPAN><\/P><\/DIV><\/DIV><\/DIV>",
"extent": {
"xmin": 1865440,
"ymin": 5807760,
"xmax": 1901920,
"ymax": 5831520,
"spatialReference": {
"wkid": 2193,
"latestWkid": 2193,
"vcsWkid": 7839,
"latestVcsWkid": 7839
}
},
"initialExtent": {
"xmin": 1865440,
"ymin": 5807760,
"xmax": 1901920,
"ymax": 5831520,
"spatialReference": {
"wkid": 2193,
"latestWkid": 2193,
"vcsWkid": 7839,
"latestVcsWkid": 7839
}
},
"fullExtent": {
"xmin": 1865440,
"ymin": 5807760,
"xmax": 1901920,
"ymax": 5831520,
"spatialReference": {
"wkid": 2193,
"latestWkid": 2193,
"vcsWkid": 7839,
"latestVcsWkid": 7839
}
},
"sortableFields": "MinPS,MaxPS,LowPS,HighPS,CenterX,CenterY,ZOrder,Shape.STArea(),Shape.STLength()",
"heightModelInfo": {
"heightModel": "gravity_related_height",
"vertCRS": "NZVD2016_height",
"heightUnit": "meter"
},
"bandCount": 4,
"pixelType": "U8",
"minValues": [
2,
5,
7,
0
],
"maxValues": [
246,
249,
250,
255
],
"meanValues": [
78.83774225333698,
93.08457199003037,
65.13114269045822,
139.46298265741447
],
"stdvValues": [
41.29446494321197,
33.82412273543288,
35.76865499460625,
58.51424962516451
],
"serviceProperties": "NorthWest<\/MosaicMethod>First<\/MosaicOperator>true<\/SortAscending><\/LockImageID>Name<\/TileOrderField>0<\/TileOrderBase>600.000000<\/AvgImageSpacingX>300.000000<\/AvgImageSpacingY>0.0<\/ViewPointX>0.0<\/ViewPointY>0.0<\/ViewPointDefShiftX>0.0<\/ViewPointDefShiftY>None<\/CompressionMethod>75<\/CompressionQuality>0.010000<\/CompressionTolerance>Bilinear<\/SamplingMethod><\/ImageServiceProperties><\/ImageServer>",
"allowedFields": "Name,MinPS,MaxPS,LowPS,HighPS,Tag,GroupName,ProductName,CenterX,CenterY,ZOrder,Shape.STArea(),Shape.STLength()",
"hasMultidimensions": false,
"pixelSizeX": 0.1,
"pixelSizeY": 0.1,
"meanPixelSize": 0.1,
"datasetFormat": "AMD",
"uncompressedSize": 346705920000,
"blockWidth": 2048,
"blockHeight": 256,
"compressionType": "None",
"bandNames": [
"Red",
"Green",
"Blue",
"Infrared"
],
"allowCopy": true,
"allowAnalysis": true,
"itemAccess": false,
"inspectionCapabilities": "",
"minPixelSize": 0,
"maxPixelSize": 0,
"copyrightText": "Captured by Woolpert NZ as part of the BOPLASS imagery capture programme.",
"serviceDataType": "esriImageServiceDataTypeProcessed",
"serviceSourceType": "esriImageServiceSourceTypeMosaicDataset",
"objectIdField": "OBJECTID",
"fields": [
{
"name": "OBJECTID",
"type": "esriFieldTypeOID",
"alias": "OBJECTID",
"domain": null
},
{
"name": "Name",
"type": "esriFieldTypeString",
"alias": "Name",
"domain": null,
"length": 200
},
{
"name": "MinPS",
"type": "esriFieldTypeDouble",
"alias": "MinPS",
"domain": null
},
{
"name": "MaxPS",
"type": "esriFieldTypeDouble",
"alias": "MaxPS",
"domain": null
},
{
"name": "LowPS",
"type": "esriFieldTypeDouble",
"alias": "LowPS",
"domain": null
},
{
"name": "HighPS",
"type": "esriFieldTypeDouble",
"alias": "HighPS",
"domain": null
},
{
"name": "Category",
"type": "esriFieldTypeInteger",
"alias": "Category",
"domain": {
"type": "codedValue",
"name": "MosaicCatalogItemCategoryDomain",
"description": "Catalog item categories.",
"codedValues": [
{
"name": "Unknown",
"code": 0
},
{
"name": "Primary",
"code": 1
},
{
"name": "Overview",
"code": 2
},
{
"name": "Unprocessed Overview",
"code": 3
},
{
"name": "Partial Overview",
"code": 4
},
{
"name": "Inactive",
"code": 5
},
{
"name": "Uploaded",
"code": 253
},
{
"name": "Incomplete",
"code": 254
},
{
"name": "Custom",
"code": 255
}
],
"mergePolicy": "esriMPTDefaultValue",
"splitPolicy": "esriSPTDefaultValue"
}
},
{
"name": "Tag",
"type": "esriFieldTypeString",
"alias": "Tag",
"domain": null,
"length": 100
},
{
"name": "GroupName",
"type": "esriFieldTypeString",
"alias": "GroupName",
"domain": null,
"length": 100
},
{
"name": "ProductName",
"type": "esriFieldTypeString",
"alias": "ProductName",
"domain": null,
"length": 100
},
{
"name": "CenterX",
"type": "esriFieldTypeDouble",
"alias": "CenterX",
"domain": null
},
{
"name": "CenterY",
"type": "esriFieldTypeDouble",
"alias": "CenterY",
"domain": null
},
{
"name": "ZOrder",
"type": "esriFieldTypeInteger",
"alias": "ZOrder",
"domain": null
},
{
"name": "Shape",
"type": "esriFieldTypeGeometry",
"alias": "Shape",
"domain": null
},
{
"name": "Shape.STArea()",
"type": "esriFieldTypeDouble",
"alias": "Shape.STArea()",
"domain": null
},
{
"name": "Shape.STLength()",
"type": "esriFieldTypeDouble",
"alias": "Shape.STLength()",
"domain": null
}
],
"capabilities": "Image,Metadata,Catalog",
"defaultMosaicMethod": "Northwest",
"allowedMosaicMethods": "NorthWest,Center,LockRaster,ByAttribute,Nadir,Viewpoint,Seamline,None",
"sortField": "",
"sortValue": null,
"sortAscending": true,
"mosaicOperator": "First",
"maxDownloadSizeLimit": 2048,
"defaultCompressionQuality": 75,
"defaultResamplingMethod": "Bilinear",
"maxImageHeight": 4100,
"maxImageWidth": 15000,
"maxRecordCount": 1000,
"maxDownloadImageCount": 20,
"maxMosaicImageCount": 20,
"allowRasterFunction": true,
"rasterFunctionInfos": [
{
"name": "None",
"description": "Make a Raster or Raster Dataset into a Function Raster Dataset.",
"help": ""
}
],
"rasterTypeInfos": [
{
"name": "Raster Dataset",
"description": "Supports all ArcGIS Raster Datasets",
"help": ""
}
],
"mensurationCapabilities": "None",
"hasHistograms": true,
"hasColormap": false,
"hasRasterAttributeTable": false,
"minScale": 0,
"maxScale": 0,
"exportTilesAllowed": false,
"supportsStatistics": true,
"supportsAdvancedQueries": true,
"editFieldsInfo": null,
"ownershipBasedAccessControlForRasters": null,
"allowComputeTiePoints": false,
"useStandardizedQueries": true,
"advancedQueryCapabilities": {
"useStandardizedQueries": true,
"supportsStatistics": true,
"supportsOrderBy": true,
"supportsDistinct": true,
"supportsPagination": true
},
"spatialReference": {
"wkid": 2193,
"latestWkid": 2193,
"vcsWkid": 7839,
"latestVcsWkid": 7839
}
}