<?xml version="1.0" encoding="UTF-8" standalone="no"?>
<metadata xml:lang="en">
<idinfo>
<descript>
<langdata Sync="TRUE">en</langdata>
<abstract>Imagery of rural land of Bay of Plenty around Tauranga, taken from Environment Bay of Plenty Regional Council. Flown 14-18th February 2007. 0.5m resolution.</abstract>
<purpose>Reference</purpose>
</descript>
<citation>
<citeinfo>
<origin>NZ Aerial Mapping - Ref 05.241</origin>
<pubdate>September 2007</pubdate>
<title Sync="TRUE">TDC_RASTER.SDEADMIN.EBOP07_RURAL</title>
<ftname Sync="TRUE">TDC_RASTER.SDEADMIN.EBOP07_RURAL</ftname>
<geoform Sync="TRUE">SDE raster digital data</geoform>
<onlink Sync="TRUE">Server=atlas; Service=tdc_raster; Database=TDC_raster; User=sdeadmin; Version=sde.DEFAULT</onlink>
</citeinfo>
</citation>
<timeperd>
<current>ground condition</current>
<timeinfo>
<sngdate>
<caldate>14-18 February 2007</caldate>
</sngdate>
</timeinfo>
</timeperd>
<status>
<progress>Complete</progress>
<update>None planned</update>
</status>
<keywords>
<theme>
<themekey>Aerial Photography</themekey>
<themekey>EBOP</themekey>
<themekt>REQUIRED: Reference to a formally registered thesaurus or a similar authoritative source of theme keywords.</themekt>
</theme>
<place>
<placekey>Tauranga Rural Area, Bay of Plenty</placekey>
</place>
</keywords>
<accconst>GIS users</accconst>
<useconst>Any digital images (e.g. JPGs for small areas) or print-outs (any size) for individuals is encouraged and can be billed per normal TCC rates. Gareth Evens of EBOP has said that we are free to use and distribute the imagery provided, with usual TCC charging / contraints. There is no need to make reference to EBOP.</useconst>
<ptcontac>
<cntinfo>
<cntaddr>
<address>Private Bag 12022</address>
<addrtype>Mailing Address</addrtype>
<city>Tauranga</city>
<state>Bay of Plenty</state>
<country>New Zealand</country>
</cntaddr>
<cntorgp>
<cntorg>Tauranga City Council</cntorg>
</cntorgp>
<cntpos>GIS Team Leader</cntpos>
<cntaddr>
<addrtype>Physical Address</addrtype>
<address>91 Willow Street</address>
<city>Tauranga</city>
<state>Bay of Plenty</state>
<country>New Zealand</country>
</cntaddr>
<cntvoice>+64 7 577 7000</cntvoice>
<cntfax>+64 7 577 7193</cntfax>
<cntemail>maps@tauranga.govt.nz</cntemail>
<hours>8:00am - 5:30pm</hours>
<cntinst>The telephone number is for the Tauranga City Council Call Centre. Ask for the GIS Team Leader.
Also try our website:
http://www.tauranga.govt.nz</cntinst>
</cntinfo>
</ptcontac>
<native Sync="TRUE">Microsoft Windows 2000 Version 5.2 (Build 3790) Service Pack 2; ESRI ArcCatalog 9.1.0.722</native>
<spdom>
<bounding>
<westbc Sync="TRUE">175.845993</westbc>
<eastbc Sync="TRUE">176.755895</eastbc>
<northbc Sync="TRUE">-37.351759</northbc>
<southbc Sync="TRUE">-38.037244</southbc>
</bounding>
<lboundng>
<leftbc Sync="TRUE">1852000.000000</leftbc>
<rightbc Sync="TRUE">1929760.000000</rightbc>
<bottombc Sync="TRUE">5786160.000000</bottombc>
<topbc Sync="TRUE">5859600.000000</topbc>
</lboundng>
</spdom>
<natvform Sync="TRUE">SDE Raster Dataset</natvform>
</idinfo>
<metainfo>
<langmeta Sync="TRUE">en</langmeta>
<metstdn Sync="TRUE">FGDC Content Standards for Digital Geospatial Metadata</metstdn>
<metstdv Sync="TRUE">FGDC-STD-001-1998</metstdv>
<mettc Sync="TRUE">local time</mettc>
<metc>
<cntinfo>
<cntorgp>
<cntper>Mark Gladstone</cntper>
<cntorg>TCC</cntorg>
</cntorgp>
<cntaddr>
<addrtype>REQUIRED: The mailing and/or physical address for the organization or individual.</addrtype>
<city>REQUIRED: The city of the address.</city>
<state>REQUIRED: The state or province of the address.</state>
<postal>REQUIRED: The ZIP or other postal code of the address.</postal>
</cntaddr>
<cntvoice>REQUIRED: The telephone number by which individuals can speak to the organization or individual.</cntvoice>
</cntinfo>
</metc>
<metextns>
<onlink>http://file.tauranga.govt.nz/1852574</onlink>
<metprof>EBOP Aerial PhotoConsortium Email - Permission to use aerial photos</metprof>
</metextns>
<metd Sync="TRUE">20080319</metd>
</metainfo>
<Esri>
<MetaID>{9685ABD0-F96B-4940-A6AA-01C4EC7A5E5C}</MetaID>
<CreaDate>20071206</CreaDate>
<CreaTime>07592600</CreaTime>
<SyncOnce>FALSE</SyncOnce>
<SyncDate>20231102</SyncDate>
<SyncTime>11370600</SyncTime>
<ModDate>20231102</ModDate>
<ModTime>11370600</ModTime>
<DataProperties>
<lineage>
<Process Date="20150524" Time="081416" ToolSource="c:\program files (x86)\arcgis\desktop10.3\ArcToolbox\Toolboxes\Data Management Tools.tbx\ChangePrivileges">ChangePrivileges 'Database Connections\SDEADMIN RASTER on tgagissde.sde\Raster.SDEADMIN.EBOP';'Database Connections\SDEADMIN RASTER on tgagissde.sde\Raster.SDEADMIN.EBOP07_COAST';'Database Connections\SDEADMIN RASTER on tgagissde.sde\Raster.SDEADMIN.EBOP07_KAIMAI_MCLARENFALLS';'Database Connections\SDEADMIN RASTER on tgagissde.sde\Raster.SDEADMIN.EBOP07_MAYOR_IS';'Database Connections\SDEADMIN RASTER on tgagissde.sde\Raster.SDEADMIN.EBOP07_MOTITI_IS';'Database Connections\SDEADMIN RASTER on tgagissde.sde\Raster.SDEADMIN.EBOP07_MOTUHORA';'Database Connections\SDEADMIN RASTER on tgagissde.sde\Raster.SDEADMIN.EBOP07_NGAWARO';'Database Connections\SDEADMIN RASTER on tgagissde.sde\Raster.SDEADMIN.EBOP07_PAPAMOA_HILLS';'Database Connections\SDEADMIN RASTER on tgagissde.sde\Raster.SDEADMIN.EBOP07_RURAL';'Database Connections\SDEADMIN RASTER on tgagissde.sde\Raster.SDEADMIN.EBOP07_RURAL_ADDITION';'Database Connections\SDEADMIN RASTER on tgagissde.sde\Raster.SDEADMIN.EBOP07_TEPUKE';'Database Connections\SDEADMIN RASTER on tgagissde.sde\Raster.SDEADMIN.EBOP07_TEPUNA';'Database Connections\SDEADMIN RASTER on tgagissde.sde\Raster.SDEADMIN.EBOP07_URB1';'Database Connections\SDEADMIN RASTER on tgagissde.sde\Raster.SDEADMIN.EBOP07_URB2';'Database Connections\SDEADMIN RASTER on tgagissde.sde\Raster.SDEADMIN.EBOP07_URB3';'Database Connections\SDEADMIN RASTER on tgagissde.sde\Raster.SDEADMIN.EBOP07_URB3_ADDITION' db_reader GRANT #</Process>
<Process Date="20231102" Time="120606" ToolSource="c:\program files (x86)\arcgis\desktop10.8\ArcToolbox\Toolboxes\Data Management Tools.tbx\CopyRaster">CopyRaster F:\Eagle\Transfer\raster4.gdb\EBOP07_RURAL R:\Aerials\EBOP\EBOP07_RURAL\EBOP07_RURAL.mrf # # 256 NONE NONE # NONE NONE MRF NONE</Process>
</lineage>
<itemProps>
<itemName Sync="TRUE">EBOP07_RURAL.mrf</itemName>
<itemLocation>
<linkage Sync="TRUE">file://R:\Aerials\EBOP\EBOP07_RURAL\EBOP07_RURAL.mrf</linkage>
<protocol Sync="TRUE">Local Area Network</protocol>
</itemLocation>
<imsContentType Sync="TRUE">002</imsContentType>
<nativeExtBox>
<westBL Sync="TRUE">1852000.000000</westBL>
<eastBL Sync="TRUE">1929760.000000</eastBL>
<southBL Sync="TRUE">5786160.000000</southBL>
<northBL Sync="TRUE">5859600.000000</northBL>
<exTypeCode Sync="TRUE">1</exTypeCode>
</nativeExtBox>
</itemProps>
<coordRef>
<type Sync="TRUE">Projected</type>
<geogcsn Sync="TRUE">GCS_NZGD_2000</geogcsn>
<csUnits Sync="TRUE">Linear Unit: Meter (1.000000)</csUnits>
<projcsn Sync="TRUE">NZGD_2000_New_Zealand_Transverse_Mercator</projcsn>
<peXml Sync="TRUE">&lt;ProjectedCoordinateSystem xsi:type='typens:ProjectedCoordinateSystem' xmlns:xsi='http://www.w3.org/2001/XMLSchema-instance' xmlns:xs='http://www.w3.org/2001/XMLSchema' xmlns:typens='http://www.esri.com/schemas/ArcGIS/10.8'&gt;&lt;WKT&gt;PROJCS[&amp;quot;NZGD_2000_New_Zealand_Transverse_Mercator&amp;quot;,GEOGCS[&amp;quot;GCS_NZGD_2000&amp;quot;,DATUM[&amp;quot;D_NZGD_2000&amp;quot;,SPHEROID[&amp;quot;GRS_1980&amp;quot;,6378137.0,298.257222101]],PRIMEM[&amp;quot;Greenwich&amp;quot;,0.0],UNIT[&amp;quot;Degree&amp;quot;,0.0174532925199433]],PROJECTION[&amp;quot;Transverse_Mercator&amp;quot;],PARAMETER[&amp;quot;False_Easting&amp;quot;,1600000.0],PARAMETER[&amp;quot;False_Northing&amp;quot;,10000000.0],PARAMETER[&amp;quot;Central_Meridian&amp;quot;,173.0],PARAMETER[&amp;quot;Scale_Factor&amp;quot;,0.9996],PARAMETER[&amp;quot;Latitude_Of_Origin&amp;quot;,0.0],UNIT[&amp;quot;Meter&amp;quot;,1.0],AUTHORITY[&amp;quot;EPSG&amp;quot;,2193]]&lt;/WKT&gt;&lt;XOrigin&gt;-4020900&lt;/XOrigin&gt;&lt;YOrigin&gt;1900&lt;/YOrigin&gt;&lt;XYScale&gt;450445547.3910538&lt;/XYScale&gt;&lt;ZOrigin&gt;-100000&lt;/ZOrigin&gt;&lt;ZScale&gt;10000&lt;/ZScale&gt;&lt;MOrigin&gt;-100000&lt;/MOrigin&gt;&lt;MScale&gt;10000&lt;/MScale&gt;&lt;XYTolerance&gt;0.001&lt;/XYTolerance&gt;&lt;ZTolerance&gt;0.001&lt;/ZTolerance&gt;&lt;MTolerance&gt;0.001&lt;/MTolerance&gt;&lt;HighPrecision&gt;true&lt;/HighPrecision&gt;&lt;WKID&gt;2193&lt;/WKID&gt;&lt;LatestWKID&gt;2193&lt;/LatestWKID&gt;&lt;/ProjectedCoordinateSystem&gt;</peXml>
</coordRef>
<RasterProperties>
<General>
<PixelDepth Sync="TRUE">8</PixelDepth>
<HasColormap Sync="TRUE">FALSE</HasColormap>
<CompressionType Sync="TRUE">DEFLATE</CompressionType>
<NumBands Sync="TRUE">3</NumBands>
<Format Sync="TRUE">MRF</Format>
<HasPyramids Sync="TRUE">TRUE</HasPyramids>
<SourceType Sync="TRUE">continuous</SourceType>
<PixelType Sync="TRUE">unsigned integer</PixelType>
<NoDataValue Sync="TRUE">256</NoDataValue>
</General>
</RasterProperties>
</DataProperties>
</Esri>
<dataqual>
<lineage>
<procstep>
<procdesc Sync="TRUE">Metadata imported.</procdesc>
<srcused Sync="TRUE">E:\Data\Documentation\Metadata\Images\Rural.xml</srcused>
<date Sync="TRUE">20071206</date>
<time Sync="TRUE">07592600</time>
</procstep>
</lineage>
</dataqual>
<dataIdInfo>
<envirDesc Sync="TRUE"> Version 6.2 (Build 9200) ; Esri ArcGIS 10.9.1.28388</envirDesc>
<dataLang>
<languageCode Sync="TRUE" value="eng"/>
<countryCode Sync="TRUE" value="NZL"/>
</dataLang>
<idCitation>
<resTitle Sync="TRUE">Aerial2007_EBOP_RURAL</resTitle>
<presForm>
<PresFormCd Sync="TRUE" value="005"/>
</presForm>
</idCitation>
<spatRpType>
<SpatRepTypCd Sync="TRUE" value="002"/>
</spatRpType>
<dataExt>
<geoEle>
<GeoBndBox esriExtentType="native">
<westBL Sync="TRUE">1852000</westBL>
<eastBL Sync="TRUE">1929760</eastBL>
<northBL Sync="TRUE">5859600</northBL>
<southBL Sync="TRUE">5786160</southBL>
<exTypeCode Sync="TRUE">1</exTypeCode>
</GeoBndBox>
</geoEle>
</dataExt>
<geoBox esriExtentType="decdegrees">
<westBL Sync="TRUE">175.845993</westBL>
<eastBL Sync="TRUE">176.755895</eastBL>
<northBL Sync="TRUE">-37.351759</northBL>
<southBL Sync="TRUE">-38.037244</southBL>
<exTypeCode Sync="TRUE">1</exTypeCode>
</geoBox>
<dataExt>
<geoEle>
<GeoBndBox esriExtentType="search">
<exTypeCode Sync="TRUE">1</exTypeCode>
<westBL Sync="TRUE">175.845993</westBL>
<eastBL Sync="TRUE">176.755895</eastBL>
<northBL Sync="TRUE">-37.351759</northBL>
<southBL Sync="TRUE">-38.037244</southBL>
</GeoBndBox>
</geoEle>
</dataExt>
<idAbs/>
<searchKeys>
<keyword>EBOP</keyword>
<keyword>2007</keyword>
<keyword>Rural</keyword>
<keyword>Aerial</keyword>
</searchKeys>
<idPurp>Aerial photography 2007, EBOP Rural extent</idPurp>
<idCredit/>
<resConst>
<Consts>
<useLimit/>
</Consts>
</resConst>
</dataIdInfo>
<mdLang>
<languageCode Sync="TRUE" value="eng"/>
<countryCode Sync="TRUE" value="NZL"/>
</mdLang>
<mdStanName Sync="TRUE">ISO 19115 Geographic Information - Metadata</mdStanName>
<mdStanVer Sync="TRUE">DIS_ESRI1.0</mdStanVer>
<mdChar>
<CharSetCd Sync="TRUE" value="004"/>
</mdChar>
<mdHrLv>
<ScopeCd Sync="TRUE" value="005"/>
</mdHrLv>
<mdHrLvName Sync="TRUE">dataset</mdHrLvName>
<distinfo>
<resdesc Sync="TRUE">Downloadable Data</resdesc>
</distinfo>
<distInfo>
<distributor>
<distorTran>
<onLineSrc>
<orDesc Sync="TRUE">002</orDesc>
<linkage Sync="TRUE">Server=atlas; Service=tdc_raster; Database=TDC_raster; User=sdeadmin; Version=sde.DEFAULT</linkage>
<protocol Sync="TRUE">ArcSDE Connection</protocol>
</onLineSrc>
</distorTran>
<distorFormat>
<formatName Sync="TRUE">SDE Raster Dataset</formatName>
</distorFormat>
</distributor>
<distFormat>
<formatName Sync="TRUE">Raster Dataset</formatName>
</distFormat>
</distInfo>
<spdoinfo>
<direct Sync="TRUE">Raster</direct>
<rastinfo>
<rasttype Sync="TRUE">Pixel</rasttype>
<rowcount Sync="TRUE">146880</rowcount>
<colcount Sync="TRUE">155520</colcount>
<rastxsz Sync="TRUE">0.500000</rastxsz>
<rastysz Sync="TRUE">0.500000</rastysz>
<rastbpp Sync="TRUE">8</rastbpp>
<vrtcount Sync="TRUE">1</vrtcount>
<rastorig Sync="TRUE">Upper Left</rastorig>
<rastcmap Sync="TRUE">FALSE</rastcmap>
<rastcomp Sync="TRUE">LZ77</rastcomp>
<rastband Sync="TRUE">3</rastband>
<rastdtyp Sync="TRUE">pixel codes</rastdtyp>
<rastifor Sync="TRUE">SDR</rastifor>
<rastplyr Sync="TRUE">TRUE</rastplyr>
</rastinfo>
</spdoinfo>
<spref>
<horizsys>
<cordsysn>
<geogcsn Sync="TRUE">GCS_NZGD_2000</geogcsn>
<projcsn Sync="TRUE">NZGD_2000_New_Zealand_Transverse_Mercator</projcsn>
</cordsysn>
<planar>
<planci>
<plance Sync="TRUE">row and column</plance>
<plandu Sync="TRUE">meters</plandu>
<coordrep>
<absres Sync="TRUE">0.500000</absres>
<ordres Sync="TRUE">0.500000</ordres>
</coordrep>
</planci>
</planar>
<geodetic>
<horizdn Sync="TRUE">D_NZGD_2000</horizdn>
<ellips Sync="TRUE">Geodetic Reference System 80</ellips>
<semiaxis Sync="TRUE">6378137.000000</semiaxis>
<denflat Sync="TRUE">298.257222</denflat>
</geodetic>
</horizsys>
<vertdef>
<altsys>
<altenc Sync="TRUE">Explicit elevation coordinate included with horizontal coordinates</altenc>
<altres Sync="TRUE">1.000000</altres>
</altsys>
</vertdef>
</spref>
<refSysInfo>
<RefSystem>
<refSysID>
<identCode Sync="TRUE" code="2193">NZGD_2000_New_Zealand_Transverse_Mercator</identCode>
<idCodeSpace Sync="TRUE">EPSG</idCodeSpace>
<idVersion Sync="TRUE">6.15(9.0.0)</idVersion>
</refSysID>
</RefSystem>
</refSysInfo>
<mdDateSt Sync="TRUE">20231102</mdDateSt>
<spatRepInfo>
<Georect>
<cellGeo>
<CellGeoCd Sync="TRUE" value="002"/>
</cellGeo>
<numDims Sync="TRUE">2</numDims>
<tranParaAv Sync="TRUE">1</tranParaAv>
<chkPtAv Sync="TRUE">0</chkPtAv>
<cornerPts>
<pos Sync="TRUE">1852000.000000 5786160.000000</pos>
</cornerPts>
<cornerPts>
<pos Sync="TRUE">1852000.000000 5859600.000000</pos>
</cornerPts>
<cornerPts>
<pos Sync="TRUE">1929760.000000 5859600.000000</pos>
</cornerPts>
<cornerPts>
<pos Sync="TRUE">1929760.000000 5786160.000000</pos>
</cornerPts>
<centerPt>
<pos Sync="TRUE">1890880.000000 5822880.000000</pos>
</centerPt>
<axisDimension type="002">
<dimSize Sync="TRUE">155520</dimSize>
<dimResol>
<value Sync="TRUE" uom="m">0.500000</value>
</dimResol>
</axisDimension>
<axisDimension type="001">
<dimSize Sync="TRUE">146880</dimSize>
<dimResol>
<value Sync="TRUE" uom="m">0.500000</value>
</dimResol>
</axisDimension>
<ptInPixel>
<PixOrientCd Sync="TRUE" value="001"/>
</ptInPixel>
</Georect>
</spatRepInfo>
<contInfo>
<ImgDesc>
<contentTyp>
<ContentTypCd Sync="TRUE" value="001"/>
</contentTyp>
<covDim>
<Band>
<dimDescrp Sync="TRUE">Band_1</dimDescrp>
<bitsPerVal Sync="TRUE">8</bitsPerVal>
<valUnit>
<UOM type="length"/>
</valUnit>
</Band>
<Band>
<dimDescrp Sync="TRUE">Band_2</dimDescrp>
<bitsPerVal Sync="TRUE">8</bitsPerVal>
<valUnit>
<UOM type="length"/>
</valUnit>
</Band>
<Band>
<dimDescrp Sync="TRUE">Band_3</dimDescrp>
<bitsPerVal Sync="TRUE">8</bitsPerVal>
<valUnit>
<UOM type="length"/>
</valUnit>
</Band>
</covDim>
</ImgDesc>
</contInfo>
</metadata>
