<?xml version="1.0" encoding="UTF-8" standalone="no"?>
<metadata xml:lang="en">
<Esri>
<CreaDate>20240315</CreaDate>
<CreaTime>09505200</CreaTime>
<ArcGISFormat>1.0</ArcGISFormat>
<SyncOnce>FALSE</SyncOnce>
<DataProperties>
<lineage>
<Process Date="20240312" Name="" Time="101754" ToolSource="c:\program files\arcgis\pro\Resources\ArcToolbox\toolboxes\Data Management Tools.tbx\CreateMosaicDataset" export="">CreateMosaicDataset D:\Users\nathan.sykes\AppData\Roaming\Esri\Desktop10.8\ArcCatalog\2b_TEST_SDEADMIN@Raster@tcc-test-sql-1.sde Aerial1943 PROJCS["NZGD_2000_New_Zealand_Transverse_Mercator",GEOGCS["GCS_NZGD_2000",DATUM["D_NZGD_2000",SPHEROID["GRS_1980",6378137.0,298.257222101]],PRIMEM["Greenwich",0.0],UNIT["Degree",0.0174532925199433]],PROJECTION["Transverse_Mercator"],PARAMETER["False_Easting",1600000.0],PARAMETER["False_Northing",10000000.0],PARAMETER["Central_Meridian",173.0],PARAMETER["Scale_Factor",0.9996],PARAMETER["Latitude_Of_Origin",0.0],UNIT["Meter",1.0]] # # None #</Process>
<Process Date="20240312" Name="" Time="102132" ToolSource="c:\program files\arcgis\pro\Resources\ArcToolbox\toolboxes\Data Management Tools.tbx\AddRastersToMosaicDataset" export="">AddRastersToMosaicDataset D:\Users\nathan.sykes\AppData\Roaming\Esri\Desktop10.8\ArcCatalog\2b_TEST_SDEADMIN@Raster@tcc-test-sql-1.sde\SDEADMIN.Aerial1943 "Raster Dataset" \\10.2.0.11\s3-projects\Archive2\SharedData\CloudConnections\tcc-raster-prod.acs\Aerials\Aerial1943\Aerial1943.mrf UPDATE_CELL_SIZES UPDATE_BOUNDARY NO_OVERVIEWS # 0 1500 # # SUBFOLDERS "Allow duplicates" NO_PYRAMIDS NO_STATISTICS NO_THUMBNAILS # NO_FORCE_SPATIAL_REFERENCE NO_STATISTICS # NO_PIXEL_CACHE D:\Users\nathan.sykes\AppData\Local\ESRI\rasterproxies\SDEADMIN.Aerial1943</Process>
<Process Date="20240315" Name="" Time="093348" ToolSource="c:\program files\arcgis\pro\Resources\ArcToolbox\Toolboxes\Data Management Tools.tbx\CopyMultiple" export="">CopyMultiple "D:\Users\nathan.sykes\AppData\Roaming\Esri\Desktop10.8\ArcCatalog\2b_TEST_SDEADMIN@Raster@tcc-test-sql-1.sde\SDEADMIN.Aerial1992Urban MosaicDataset;D:\Users\nathan.sykes\AppData\Roaming\Esri\Desktop10.8\ArcCatalog\2b_TEST_SDEADMIN@Raster@tcc-test-sql-1.sde\SDEADMIN.Aerial1977 MosaicDataset;D:\Users\nathan.sykes\AppData\Roaming\Esri\Desktop10.8\ArcCatalog\2b_TEST_SDEADMIN@Raster@tcc-test-sql-1.sde\SDEADMIN.Aerial1959 MosaicDataset;D:\Users\nathan.sykes\AppData\Roaming\Esri\Desktop10.8\ArcCatalog\2b_TEST_SDEADMIN@Raster@tcc-test-sql-1.sde\SDEADMIN.Aerial1943 MosaicDataset" D:\Users\nathan.sykes\AppData\Roaming\Esri\Desktop10.8\ArcCatalog\1b_SDEADMIN@Raster@tcc-prod-sql-1.sde Aerial1992Urban;Aerial1977;Aerial1959;Aerial1943 "SDEADMIN.Aerial1992Urban MosaicDataset SDEADMIN.Aerial1992Urban #;SDEADMIN.Aerial1977 MosaicDataset SDEADMIN.Aerial1977 #;SDEADMIN.Aerial1959 MosaicDataset SDEADMIN.Aerial1959 #;SDEADMIN.Aerial1943 MosaicDataset SDEADMIN.Aerial1943 #"</Process>
<Process Date="20240315" Time="095116" ToolSource="c:\program files\arcgis\pro\Resources\ArcToolbox\Toolboxes\Data Management Tools.tbx\CopyMultiple">CopyMultiple "D:\Users\nathan.sykes\AppData\Roaming\Esri\Desktop10.8\ArcCatalog\1b_SDEADMIN@Raster@tcc-prod-sql-1.sde\SDEADMIN.Aerial1943 MosaicDataset;D:\Users\nathan.sykes\AppData\Roaming\Esri\Desktop10.8\ArcCatalog\1b_SDEADMIN@Raster@tcc-prod-sql-1.sde\SDEADMIN.Aerial1959 MosaicDataset;D:\Users\nathan.sykes\AppData\Roaming\Esri\Desktop10.8\ArcCatalog\1b_SDEADMIN@Raster@tcc-prod-sql-1.sde\SDEADMIN.Aerial1977 MosaicDataset;D:\Users\nathan.sykes\AppData\Roaming\Esri\Desktop10.8\ArcCatalog\1b_SDEADMIN@Raster@tcc-prod-sql-1.sde\SDEADMIN.Aerial1992Urban MosaicDataset" D:\Users\nathan.sykes\AppData\Roaming\Esri\Desktop10.8\ArcCatalog\2b_TEST_SDEADMIN@Raster@tcc-test-sql-1.sde Aerial1943;Aerial1959;Aerial1977;Aerial1992Urban "SDEADMIN.Aerial1943 MosaicDataset SDEADMIN.Aerial1943 #;SDEADMIN.Aerial1959 MosaicDataset SDEADMIN.Aerial1959 #;SDEADMIN.Aerial1977 MosaicDataset SDEADMIN.Aerial1977 #;SDEADMIN.Aerial1992Urban MosaicDataset SDEADMIN.Aerial1992Urban #"</Process>
</lineage>
<itemProps>
<itemLocation>
<linkage Sync="TRUE">Server=tcc-test-sql-1; Service=sde:sqlserver:tcc-test-sql-1; Database=raster; User=sdeadmin; Version=sde.DEFAULT</linkage>
<protocol Sync="TRUE">ArcSDE Connection</protocol>
</itemLocation>
<itemName Sync="TRUE">SDEADMIN.Aerial1943</itemName>
<nativeExtBox>
<westBL Sync="TRUE">1872306.000000</westBL>
<eastBL Sync="TRUE">1883769.000000</eastBL>
<southBL Sync="TRUE">5817506.000000</southBL>
<northBL Sync="TRUE">5831680.750000</northBL>
<exTypeCode Sync="TRUE">1</exTypeCode>
</nativeExtBox>
</itemProps>
<coordRef>
<type Sync="TRUE">Projected</type>
<geogcsn Sync="TRUE">GCS_NZGD_2000</geogcsn>
<csUnits Sync="TRUE">Linear Unit: Meter (1.000000)</csUnits>
<projcsn Sync="TRUE">NZGD_2000_New_Zealand_Transverse_Mercator</projcsn>
<peXml Sync="TRUE">&lt;ProjectedCoordinateSystem xsi:type='typens:ProjectedCoordinateSystem' xmlns:xsi='http://www.w3.org/2001/XMLSchema-instance' xmlns:xs='http://www.w3.org/2001/XMLSchema' xmlns:typens='http://www.esri.com/schemas/ArcGIS/10.8'&gt;&lt;WKT&gt;PROJCS[&amp;quot;NZGD_2000_New_Zealand_Transverse_Mercator&amp;quot;,GEOGCS[&amp;quot;GCS_NZGD_2000&amp;quot;,DATUM[&amp;quot;D_NZGD_2000&amp;quot;,SPHEROID[&amp;quot;GRS_1980&amp;quot;,6378137.0,298.257222101]],PRIMEM[&amp;quot;Greenwich&amp;quot;,0.0],UNIT[&amp;quot;Degree&amp;quot;,0.0174532925199433]],PROJECTION[&amp;quot;Transverse_Mercator&amp;quot;],PARAMETER[&amp;quot;False_Easting&amp;quot;,1600000.0],PARAMETER[&amp;quot;False_Northing&amp;quot;,10000000.0],PARAMETER[&amp;quot;Central_Meridian&amp;quot;,173.0],PARAMETER[&amp;quot;Scale_Factor&amp;quot;,0.9996],PARAMETER[&amp;quot;Latitude_Of_Origin&amp;quot;,0.0],UNIT[&amp;quot;Meter&amp;quot;,1.0],AUTHORITY[&amp;quot;EPSG&amp;quot;,2193]]&lt;/WKT&gt;&lt;XOrigin&gt;-4020900&lt;/XOrigin&gt;&lt;YOrigin&gt;1900&lt;/YOrigin&gt;&lt;XYScale&gt;450445547.3910538&lt;/XYScale&gt;&lt;ZOrigin&gt;-100000&lt;/ZOrigin&gt;&lt;ZScale&gt;10000&lt;/ZScale&gt;&lt;MOrigin&gt;-100000&lt;/MOrigin&gt;&lt;MScale&gt;10000&lt;/MScale&gt;&lt;XYTolerance&gt;0.001&lt;/XYTolerance&gt;&lt;ZTolerance&gt;0.001&lt;/ZTolerance&gt;&lt;MTolerance&gt;0.001&lt;/MTolerance&gt;&lt;HighPrecision&gt;true&lt;/HighPrecision&gt;&lt;WKID&gt;2193&lt;/WKID&gt;&lt;LatestWKID&gt;2193&lt;/LatestWKID&gt;&lt;/ProjectedCoordinateSystem&gt;</peXml>
</coordRef>
<RasterProperties>
<General>
<PixelDepth Sync="TRUE">8</PixelDepth>
<HasColormap Sync="TRUE">FALSE</HasColormap>
<CompressionType Sync="TRUE">None</CompressionType>
<NumBands Sync="TRUE">1</NumBands>
<Format Sync="TRUE">AMD</Format>
<HasPyramids Sync="TRUE">TRUE</HasPyramids>
<SourceType Sync="TRUE">continuous</SourceType>
<PixelType Sync="TRUE">unsigned integer</PixelType>
<NoDataValue Sync="TRUE"/>
</General>
<Properties>
<MaxImageHeight Sync="TRUE">4100</MaxImageHeight>
<MaxImageWidth Sync="TRUE">15000</MaxImageWidth>
<MaxRecordCount Sync="TRUE">1000</MaxRecordCount>
<MaxDownloadImageCount Sync="TRUE">20</MaxDownloadImageCount>
<MaxDownloadSizeLimit Sync="TRUE">2048</MaxDownloadSizeLimit>
<MaxMosaicImageCount Sync="TRUE">20</MaxMosaicImageCount>
<DefaultCompressionQuality Sync="TRUE">75</DefaultCompressionQuality>
<DefaultCompressionTolerance Sync="TRUE">0.01</DefaultCompressionTolerance>
<BlendWidth Sync="TRUE">10</BlendWidth>
<ViewpointSpacingX Sync="TRUE">600</ViewpointSpacingX>
<ViewpointSpacingY Sync="TRUE">300</ViewpointSpacingY>
<AllowedItemMetadata Sync="TRUE">Basic</AllowedItemMetadata>
<DefaultResamplingMethod Sync="TRUE">1</DefaultResamplingMethod>
<AllowedMosaicMethods Sync="TRUE">NorthWest,Center,LockRaster,ByAttribute,Nadir,Viewpoint,Seamline,None</AllowedMosaicMethods>
<AllowedCompressions Sync="TRUE">None,JPEG,LZ77,LERC</AllowedCompressions>
<AllowedMensurationCapabilities Sync="TRUE">None</AllowedMensurationCapabilities>
<AvailableMensurationCapabilities Sync="TRUE">None,Basic,Base-Top Height,Top-Top Shadow Height,Base-Top Shadow Height,3D</AvailableMensurationCapabilities>
<ClipToBoundary Sync="TRUE">-1</ClipToBoundary>
<FootprintMayContainNoData Sync="TRUE">-1</FootprintMayContainNoData>
<CellSizeTolerance Sync="TRUE">0.8</CellSizeTolerance>
<MinimumPixelContribution Sync="TRUE">1</MinimumPixelContribution>
<AvailableMosaicMethods Sync="TRUE">NorthWest,Center,LockRaster,ByAttribute,Nadir,Viewpoint,Seamline,None</AvailableMosaicMethods>
<AvailableCompressionMethods Sync="TRUE">None,JPEG,LZ77,LERC</AvailableCompressionMethods>
<AvailableItemMetadataLevels Sync="TRUE">None,Basic,Full</AvailableItemMetadataLevels>
<BandDefinitionKeyword Sync="TRUE">NONE</BandDefinitionKeyword>
<_docversion_ Sync="TRUE">10</_docversion_>
<AllowedFields Sync="TRUE">Name,MinPS,MaxPS,LowPS,HighPS,Tag,GroupName,ProductName,CenterX,CenterY,ZOrder,Shape.STArea(),Shape.STLength()</AllowedFields>
<MaxCellSize Sync="TRUE">5400</MaxCellSize>
<LowCellSize Sync="TRUE">0.25</LowCellSize>
<HighCellSize Sync="TRUE">4</HighCellSize>
<ClipToFootprint Sync="TRUE">-1</ClipToFootprint>
</Properties>
<Functions Sync="TRUE">
<Function Description="Performs on-the-fly mosaic on a raster catalog." Name="Mosaic Function"/>
</Functions>
</RasterProperties>
</DataProperties>
<SyncDate>20240315</SyncDate>
<SyncTime>09454700</SyncTime>
<ModDate>20240315</ModDate>
<ModTime>09454700</ModTime>
<scaleRange>
<minScale>150000000</minScale>
<maxScale>5000</maxScale>
</scaleRange>
<ArcGISProfile>ItemDescription</ArcGISProfile>
</Esri>
<dataIdInfo>
<envirDesc Sync="TRUE"> Version 6.2 (Build 9200) ; Esri ArcGIS 10.9.1.28388</envirDesc>
<dataLang>
<languageCode Sync="TRUE" value="eng"/>
<countryCode Sync="TRUE" value="NZL"/>
</dataLang>
<idCitation>
<resTitle Sync="TRUE">Aerial1943</resTitle>
<presForm>
<PresFormCd Sync="TRUE" value="005"/>
</presForm>
</idCitation>
<spatRpType>
<SpatRepTypCd Sync="TRUE" value="002"/>
</spatRpType>
<dataExt>
<geoEle>
<GeoBndBox esriExtentType="search">
<exTypeCode Sync="TRUE">1</exTypeCode>
<westBL Sync="TRUE">176.085362</westBL>
<eastBL Sync="TRUE">176.220575</eastBL>
<northBL Sync="TRUE">-37.618215</northBL>
<southBL Sync="TRUE">-37.749258</southBL>
</GeoBndBox>
</geoEle>
</dataExt>
<idPurp>Aerial1943</idPurp>
<idAbs>&lt;DIV STYLE="text-align:Left;"&gt;&lt;DIV&gt;&lt;DIV&gt;&lt;P&gt;&lt;SPAN&gt;&lt;SPAN&gt;1943 Black and White aerial photography images - at 0.25m resolution (Photos Taken on 9/02/1943)&lt;/SPAN&gt;&lt;/SPAN&gt;&lt;/P&gt;&lt;P&gt;&lt;SPAN /&gt;&lt;/P&gt;&lt;/DIV&gt;&lt;/DIV&gt;&lt;/DIV&gt;</idAbs>
<searchKeys>
<keyword>Aerial</keyword>
</searchKeys>
<idCredit/>
<resConst>
<Consts>
<useLimit/>
</Consts>
</resConst>
</dataIdInfo>
<mdLang>
<languageCode Sync="TRUE" value="eng"/>
<countryCode Sync="TRUE" value="NZL"/>
</mdLang>
<refSysInfo>
<RefSystem>
<refSysID>
<identCode Sync="TRUE" code="2193"/>
<idCodeSpace Sync="TRUE">EPSG</idCodeSpace>
<idVersion Sync="TRUE">6.15(9.0.0)</idVersion>
</refSysID>
</RefSystem>
</refSysInfo>
<spatRepInfo>
<Georect>
<cellGeo>
<CellGeoCd Sync="TRUE" value="002"/>
</cellGeo>
<numDims Sync="TRUE">2</numDims>
<tranParaAv Sync="TRUE">1</tranParaAv>
<chkPtAv Sync="TRUE">0</chkPtAv>
<cornerPts>
<pos Sync="TRUE">1872306.000000 5817506.000000</pos>
</cornerPts>
<cornerPts>
<pos Sync="TRUE">1872306.000000 5831680.750000</pos>
</cornerPts>
<cornerPts>
<pos Sync="TRUE">1883769.000000 5831680.750000</pos>
</cornerPts>
<cornerPts>
<pos Sync="TRUE">1883769.000000 5817506.000000</pos>
</cornerPts>
<centerPt>
<pos Sync="TRUE">1878037.500000 5824593.375000</pos>
</centerPt>
<axisDimension type="002">
<dimSize Sync="TRUE">45852</dimSize>
<dimResol>
<value Sync="TRUE" uom="m">0.250000</value>
</dimResol>
</axisDimension>
<axisDimension type="001">
<dimSize Sync="TRUE">56699</dimSize>
<dimResol>
<value Sync="TRUE" uom="m">0.250000</value>
</dimResol>
</axisDimension>
<ptInPixel>
<PixOrientCd Sync="TRUE" value="001"/>
</ptInPixel>
</Georect>
</spatRepInfo>
<contInfo>
<ImgDesc>
<contentTyp>
<ContentTypCd Sync="TRUE" value="001"/>
</contentTyp>
<covDim>
<Band>
<dimDescrp Sync="TRUE">Band_1</dimDescrp>
<maxVal Sync="TRUE">255.000000</maxVal>
<minVal Sync="TRUE">0.000000</minVal>
<bitsPerVal Sync="TRUE">8</bitsPerVal>
<valUnit>
<UOM type="length"/>
</valUnit>
</Band>
</covDim>
</ImgDesc>
</contInfo>
<mdDateSt Sync="TRUE">20240315</mdDateSt>
<mdHrLv>
<ScopeCd value="005"/>
</mdHrLv>
</metadata>
